BEGIN:VCALENDAR
VERSION:2.0
PRODID:-//Royale Boston - ECPv6.15.20//NONSGML v1.0//EN
CALSCALE:GREGORIAN
METHOD:PUBLISH
X-WR-CALNAME:Royale Boston
X-ORIGINAL-URL:https://royaleboston.com
X-WR-CALDESC:Events for Royale Boston
REFRESH-INTERVAL;VALUE=DURATION:PT1H
X-Robots-Tag:noindex
X-PUBLISHED-TTL:PT1H
BEGIN:VTIMEZONE
TZID:America/New_York
BEGIN:DAYLIGHT
TZOFFSETFROM:-0500
TZOFFSETTO:-0400
TZNAME:EDT
DTSTART:20250309T070000
END:DAYLIGHT
BEGIN:STANDARD
TZOFFSETFROM:-0400
TZOFFSETTO:-0500
TZNAME:EST
DTSTART:20251102T060000
END:STANDARD
BEGIN:DAYLIGHT
TZOFFSETFROM:-0500
TZOFFSETTO:-0400
TZNAME:EDT
DTSTART:20260308T070000
END:DAYLIGHT
BEGIN:STANDARD
TZOFFSETFROM:-0400
TZOFFSETTO:-0500
TZNAME:EST
DTSTART:20261101T060000
END:STANDARD
BEGIN:DAYLIGHT
TZOFFSETFROM:-0500
TZOFFSETTO:-0400
TZNAME:EDT
DTSTART:20270314T070000
END:DAYLIGHT
BEGIN:STANDARD
TZOFFSETFROM:-0400
TZOFFSETTO:-0500
TZNAME:EST
DTSTART:20271107T060000
END:STANDARD
END:VTIMEZONE
BEGIN:VEVENT
DTSTART;TZID=America/New_York:20260418T213000
DTEND;TZID=America/New_York:20260418T213000
DTSTAMP:20260424T085102
CREATED:20260402T194649Z
LAST-MODIFIED:20260402T195143Z
UID:10003841-1776547800-1776547800@royaleboston.com
SUMMARY:Carlos
DESCRIPTION:Carlos on stage — unforgettable music\, non-stop energy\, a night to remember. \nGet ready for a high-energy night as Lebanese artist Carlos Hikri takes over the stage\, featuring DJ ROMEL keeping the party going all night long! Expect nonstop music\, an electric atmosphere\, and a packed dance floor as we celebrate an epic engagement party you won’t want to miss. \nDining & Seating Policy\nNO DINNER will be served at the CLUB/VENUE; guests are advised to dine prior to arrival.\nEach table includes 10 seats. Table number is guaranteed\, but seats are unnumbered and available on a first-come\, first-served basis.
URL:https://royaleboston.com/event/carlos/
LOCATION:Royale Nightclub Boston\, MA\, 279 Tremont Street\, Boston\, MA\, 02116\, United States
CATEGORIES:Concerts,Nightclub
ATTACH;FMTTYPE=image/jpeg:https://royaleboston.com/wp-content/uploads/2026/04/Unknown.jpeg
GEO:42.3499959;-71.0656288
X-APPLE-STRUCTURED-LOCATION;VALUE=URI;X-ADDRESS=Royale Nightclub Boston MA 279 Tremont Street Boston MA 02116 United States;X-APPLE-RADIUS=500;X-TITLE=279 Tremont Street:geo:-71.0656288,42.3499959
END:VEVENT
END:VCALENDAR