BEGIN:VCALENDAR
VERSION:2.0
PRODID:-//Royale Boston - ECPv6.15.20//NONSGML v1.0//EN
CALSCALE:GREGORIAN
METHOD:PUBLISH
X-ORIGINAL-URL:https://royaleboston.com
X-WR-CALDESC:Events for Royale Boston
REFRESH-INTERVAL;VALUE=DURATION:PT1H
X-Robots-Tag:noindex
X-PUBLISHED-TTL:PT1H
BEGIN:VTIMEZONE
TZID:America/New_York
BEGIN:DAYLIGHT
TZOFFSETFROM:-0500
TZOFFSETTO:-0400
TZNAME:EDT
DTSTART:20140309T070000
END:DAYLIGHT
BEGIN:STANDARD
TZOFFSETFROM:-0400
TZOFFSETTO:-0500
TZNAME:EST
DTSTART:20141102T060000
END:STANDARD
BEGIN:DAYLIGHT
TZOFFSETFROM:-0500
TZOFFSETTO:-0400
TZNAME:EDT
DTSTART:20150308T070000
END:DAYLIGHT
BEGIN:STANDARD
TZOFFSETFROM:-0400
TZOFFSETTO:-0500
TZNAME:EST
DTSTART:20151101T060000
END:STANDARD
BEGIN:DAYLIGHT
TZOFFSETFROM:-0500
TZOFFSETTO:-0400
TZNAME:EDT
DTSTART:20160313T070000
END:DAYLIGHT
BEGIN:STANDARD
TZOFFSETFROM:-0400
TZOFFSETTO:-0500
TZNAME:EST
DTSTART:20161106T060000
END:STANDARD
END:VTIMEZONE
BEGIN:VEVENT
DTSTART;TZID=America/New_York:20150904T220000
DTEND;TZID=America/New_York:20150904T220000
DTSTAMP:20260424T102502
CREATED:20150830T095812Z
LAST-MODIFIED:20150830T095812Z
UID:10001772-1441404000-1441404000@royaleboston.com
SUMMARY:Zaxx
DESCRIPTION:21 + \nMgt reserves the right to refuse admission. Dress code applies. Admission not guaranteed after 12am.
URL:https://royaleboston.com/event/zaxx/
LOCATION:Royale Nightclub Boston\, MA\, 279 Tremont Street\, Boston\, MA\, 02116\, United States
CATEGORIES:Nightclub
ATTACH;FMTTYPE=image/png:https://royaleboston.com/wp-content/uploads/2015/08/SOFA-KING-ZAXX-09-04-15.png
GEO:42.3499959;-71.0656288
X-APPLE-STRUCTURED-LOCATION;VALUE=URI;X-ADDRESS=Royale Nightclub Boston MA 279 Tremont Street Boston MA 02116 United States;X-APPLE-RADIUS=500;X-TITLE=279 Tremont Street:geo:-71.0656288,42.3499959
END:VEVENT
BEGIN:VEVENT
DTSTART;TZID=America/New_York:20150905T220000
DTEND;TZID=America/New_York:20150905T220000
DTSTAMP:20260424T102502
CREATED:20150830T100747Z
LAST-MODIFIED:20150830T100747Z
UID:10001774-1441490400-1441490400@royaleboston.com
SUMMARY:White Party
DESCRIPTION:21 + \nMgt reserves the right to refuse admission. Dress code applies. Admission not guaranteed after 12am.
URL:https://royaleboston.com/event/white-party-2/
LOCATION:Royale Nightclub Boston\, MA\, 279 Tremont Street\, Boston\, MA\, 02116\, United States
CATEGORIES:Nightclub
ATTACH;FMTTYPE=image/jpeg:https://royaleboston.com/wp-content/uploads/2015/08/ROYALE_WHITE_PARTY.jpg
GEO:42.3499959;-71.0656288
X-APPLE-STRUCTURED-LOCATION;VALUE=URI;X-ADDRESS=Royale Nightclub Boston MA 279 Tremont Street Boston MA 02116 United States;X-APPLE-RADIUS=500;X-TITLE=279 Tremont Street:geo:-71.0656288,42.3499959
END:VEVENT
BEGIN:VEVENT
DTSTART;TZID=America/New_York:20150906T220000
DTEND;TZID=America/New_York:20150906T220000
DTSTAMP:20260424T102502
CREATED:20150830T100237Z
LAST-MODIFIED:20150830T100237Z
UID:10001773-1441576800-1441576800@royaleboston.com
SUMMARY:White Party
DESCRIPTION:21 + \nMgt reserves the right to refuse admission. Dress code applies. Admission not guaranteed after 12am.
URL:https://royaleboston.com/event/white-party/
LOCATION:Royale Nightclub Boston\, MA\, 279 Tremont Street\, Boston\, MA\, 02116\, United States
CATEGORIES:Nightclub
ATTACH;FMTTYPE=image/jpeg:https://royaleboston.com/wp-content/uploads/2015/08/9.06-WHITE-PARTY.jpg
GEO:42.3499959;-71.0656288
X-APPLE-STRUCTURED-LOCATION;VALUE=URI;X-ADDRESS=Royale Nightclub Boston MA 279 Tremont Street Boston MA 02116 United States;X-APPLE-RADIUS=500;X-TITLE=279 Tremont Street:geo:-71.0656288,42.3499959
END:VEVENT
BEGIN:VEVENT
DTSTART;TZID=America/New_York:20150911T200000
DTEND;TZID=America/New_York:20150911T200000
DTSTAMP:20260424T102502
CREATED:20150912T014122Z
LAST-MODIFIED:20150912T014122Z
UID:10001899-1442001600-1442001600@royaleboston.com
SUMMARY:Test
DESCRIPTION:
URL:https://royaleboston.com/event/test/
LOCATION:MA
CATEGORIES:Nightclub
END:VEVENT
BEGIN:VEVENT
DTSTART;TZID=America/New_York:20150911T220000
DTEND;TZID=America/New_York:20150911T220000
DTSTAMP:20260424T102502
CREATED:20150830T101038Z
LAST-MODIFIED:20150830T101038Z
UID:10001545-1442008800-1442008800@royaleboston.com
SUMMARY:KAP SLAP
DESCRIPTION:21 + \nMgt reserves the right to refuse admission. Dress code applies. Admission not guaranteed after 12am.
URL:https://royaleboston.com/event/kap-slap/
LOCATION:Royale Nightclub Boston\, MA\, 279 Tremont Street\, Boston\, MA\, 02116\, United States
CATEGORIES:Nightclub
ATTACH;FMTTYPE=image/png:https://royaleboston.com/wp-content/uploads/2015/08/SOFA-KING-Kap-Slap-9-11-15_JoeBermudez.png
GEO:42.3499959;-71.0656288
X-APPLE-STRUCTURED-LOCATION;VALUE=URI;X-ADDRESS=Royale Nightclub Boston MA 279 Tremont Street Boston MA 02116 United States;X-APPLE-RADIUS=500;X-TITLE=279 Tremont Street:geo:-71.0656288,42.3499959
END:VEVENT
BEGIN:VEVENT
DTSTART;TZID=America/New_York:20150919T220000
DTEND;TZID=America/New_York:20150919T220000
DTSTAMP:20260424T102502
CREATED:20150830T102843Z
LAST-MODIFIED:20150830T102843Z
UID:10001549-1442700000-1442700000@royaleboston.com
SUMMARY:ANDREW RAYEL
DESCRIPTION:21 + \nMgt reserves the right to refuse admission. Dress code applies. Admission not guaranteed after 12am.
URL:https://royaleboston.com/event/andrew-rayel/
LOCATION:Royale Nightclub Boston\, MA\, 279 Tremont Street\, Boston\, MA\, 02116\, United States
CATEGORIES:Nightclub
ATTACH;FMTTYPE=image/png:https://royaleboston.com/wp-content/uploads/2015/08/SOFA-KING-Andrew-Rayel-9-18-15.png
GEO:42.3499959;-71.0656288
X-APPLE-STRUCTURED-LOCATION;VALUE=URI;X-ADDRESS=Royale Nightclub Boston MA 279 Tremont Street Boston MA 02116 United States;X-APPLE-RADIUS=500;X-TITLE=279 Tremont Street:geo:-71.0656288,42.3499959
END:VEVENT
BEGIN:VEVENT
DTSTART;TZID=America/New_York:20150919T220000
DTEND;TZID=America/New_York:20150919T220000
DTSTAMP:20260424T102502
CREATED:20150910T004333Z
LAST-MODIFIED:20150910T004333Z
UID:10001858-1442700000-1442700000@royaleboston.com
SUMMARY:ENFERNO
DESCRIPTION:
URL:https://royaleboston.com/event/enferno/
LOCATION:Royale Nightclub Boston\, MA\, 279 Tremont Street\, Boston\, MA\, 02116\, United States
CATEGORIES:Nightclub
ATTACH;FMTTYPE=image/jpeg:https://royaleboston.com/wp-content/uploads/2015/09/9.19-Enferno.jpg
GEO:42.3499959;-71.0656288
X-APPLE-STRUCTURED-LOCATION;VALUE=URI;X-ADDRESS=Royale Nightclub Boston MA 279 Tremont Street Boston MA 02116 United States;X-APPLE-RADIUS=500;X-TITLE=279 Tremont Street:geo:-71.0656288,42.3499959
END:VEVENT
BEGIN:VEVENT
DTSTART;TZID=America/New_York:20150924T220000
DTEND;TZID=America/New_York:20150924T220000
DTSTAMP:20260424T102502
CREATED:20150830T103104Z
LAST-MODIFIED:20150830T103104Z
UID:10001550-1443132000-1443132000@royaleboston.com
SUMMARY:RUBY ROSE
DESCRIPTION:
URL:https://royaleboston.com/event/ruby-rose/
LOCATION:Royale Nightclub Boston\, MA\, 279 Tremont Street\, Boston\, MA\, 02116\, United States
CATEGORIES:Nightclub
GEO:42.3499959;-71.0656288
X-APPLE-STRUCTURED-LOCATION;VALUE=URI;X-ADDRESS=Royale Nightclub Boston MA 279 Tremont Street Boston MA 02116 United States;X-APPLE-RADIUS=500;X-TITLE=279 Tremont Street:geo:-71.0656288,42.3499959
END:VEVENT
BEGIN:VEVENT
DTSTART;TZID=America/New_York:20150924T220000
DTEND;TZID=America/New_York:20150924T220000
DTSTAMP:20260424T102502
CREATED:20150911T213424Z
LAST-MODIFIED:20150911T213424Z
UID:10001897-1443132000-1443132000@royaleboston.com
SUMMARY:BLASTERJAXX
DESCRIPTION:
URL:https://royaleboston.com/event/blasterjaxx-2/
LOCATION:Royale Nightclub Boston\, MA\, 279 Tremont Street\, Boston\, MA\, 02116\, United States
CATEGORIES:Nightclub
ATTACH;FMTTYPE=image/jpeg:https://royaleboston.com/wp-content/uploads/2015/09/Blasterjaxx_Flyer.jpg
GEO:42.3499959;-71.0656288
X-APPLE-STRUCTURED-LOCATION;VALUE=URI;X-ADDRESS=Royale Nightclub Boston MA 279 Tremont Street Boston MA 02116 United States;X-APPLE-RADIUS=500;X-TITLE=279 Tremont Street:geo:-71.0656288,42.3499959
END:VEVENT
BEGIN:VEVENT
DTSTART;TZID=America/New_York:20150925T220000
DTEND;TZID=America/New_York:20150925T220000
DTSTAMP:20260424T102502
CREATED:20150830T103704Z
LAST-MODIFIED:20150830T103704Z
UID:10001551-1443218400-1443218400@royaleboston.com
SUMMARY:LAIDBACK LUKE
DESCRIPTION:21 + \nMgt reserves the right to refuse admission. Dress code applies. Admission not guaranteed after 12am.
URL:https://royaleboston.com/event/laidback-luke/
LOCATION:Royale Nightclub Boston\, MA\, 279 Tremont Street\, Boston\, MA\, 02116\, United States
CATEGORIES:Nightclub
ATTACH;FMTTYPE=image/png:https://royaleboston.com/wp-content/uploads/2015/08/SOFA-KING-Laidback-Luke-9-25-15.png
GEO:42.3499959;-71.0656288
X-APPLE-STRUCTURED-LOCATION;VALUE=URI;X-ADDRESS=Royale Nightclub Boston MA 279 Tremont Street Boston MA 02116 United States;X-APPLE-RADIUS=500;X-TITLE=279 Tremont Street:geo:-71.0656288,42.3499959
END:VEVENT
BEGIN:VEVENT
DTSTART;TZID=America/New_York:20150926T220000
DTEND;TZID=America/New_York:20150926T220000
DTSTAMP:20260424T102502
CREATED:20150923T230240Z
LAST-MODIFIED:20150923T230240Z
UID:10001572-1443304800-1443304800@royaleboston.com
SUMMARY:SMOOCH
DESCRIPTION:21+
URL:https://royaleboston.com/event/smooch/
LOCATION:Royale Nightclub Boston\, MA\, 279 Tremont Street\, Boston\, MA\, 02116\, United States
CATEGORIES:Nightclub
ATTACH;FMTTYPE=image/jpeg:https://royaleboston.com/wp-content/uploads/2015/09/9.26-Smooch.jpg
GEO:42.3499959;-71.0656288
X-APPLE-STRUCTURED-LOCATION;VALUE=URI;X-ADDRESS=Royale Nightclub Boston MA 279 Tremont Street Boston MA 02116 United States;X-APPLE-RADIUS=500;X-TITLE=279 Tremont Street:geo:-71.0656288,42.3499959
END:VEVENT
BEGIN:VEVENT
DTSTART;TZID=America/New_York:20150927T220000
DTEND;TZID=America/New_York:20150927T220000
DTSTAMP:20260424T102502
CREATED:20150908T235125Z
LAST-MODIFIED:20150908T235125Z
UID:10001813-1443391200-1443391200@royaleboston.com
SUMMARY:MR PINK LAUNCH PARTY
DESCRIPTION:21+ \nMANAGEMENT RESERVES THE RIGHT TO REFUSE ADMISSION. DRESS TO IMPRESS.
URL:https://royaleboston.com/event/mr-pink-launch-party/
LOCATION:Royale Nightclub Boston\, MA\, 279 Tremont Street\, Boston\, MA\, 02116\, United States
CATEGORIES:Nightclub,Special Events
ATTACH;FMTTYPE=image/jpeg:https://royaleboston.com/wp-content/uploads/2015/09/9.27-mr-pink-lil-jon.jpg
GEO:42.3499959;-71.0656288
X-APPLE-STRUCTURED-LOCATION;VALUE=URI;X-ADDRESS=Royale Nightclub Boston MA 279 Tremont Street Boston MA 02116 United States;X-APPLE-RADIUS=500;X-TITLE=279 Tremont Street:geo:-71.0656288,42.3499959
END:VEVENT
END:VCALENDAR