BEGIN:VCALENDAR
VERSION:2.0
PRODID:-//Royale Boston - ECPv6.15.20//NONSGML v1.0//EN
CALSCALE:GREGORIAN
METHOD:PUBLISH
X-ORIGINAL-URL:https://royaleboston.com
X-WR-CALDESC:Events for Royale Boston
REFRESH-INTERVAL;VALUE=DURATION:PT1H
X-Robots-Tag:noindex
X-PUBLISHED-TTL:PT1H
BEGIN:VTIMEZONE
TZID:America/New_York
BEGIN:DAYLIGHT
TZOFFSETFROM:-0500
TZOFFSETTO:-0400
TZNAME:EDT
DTSTART:20140309T070000
END:DAYLIGHT
BEGIN:STANDARD
TZOFFSETFROM:-0400
TZOFFSETTO:-0500
TZNAME:EST
DTSTART:20141102T060000
END:STANDARD
BEGIN:DAYLIGHT
TZOFFSETFROM:-0500
TZOFFSETTO:-0400
TZNAME:EDT
DTSTART:20150308T070000
END:DAYLIGHT
BEGIN:STANDARD
TZOFFSETFROM:-0400
TZOFFSETTO:-0500
TZNAME:EST
DTSTART:20151101T060000
END:STANDARD
BEGIN:DAYLIGHT
TZOFFSETFROM:-0500
TZOFFSETTO:-0400
TZNAME:EDT
DTSTART:20160313T070000
END:DAYLIGHT
BEGIN:STANDARD
TZOFFSETFROM:-0400
TZOFFSETTO:-0500
TZNAME:EST
DTSTART:20161106T060000
END:STANDARD
END:VTIMEZONE
BEGIN:VEVENT
DTSTART;TZID=America/New_York:20151002T220000
DTEND;TZID=America/New_York:20151002T220000
DTSTAMP:20260424T073452
CREATED:20150830T104435Z
LAST-MODIFIED:20150830T104435Z
UID:10001553-1443823200-1443823200@royaleboston.com
SUMMARY:MATOMA
DESCRIPTION:21 + \nMgt reserves the right to refuse admission. Dress code applies. Admission not guaranteed after 12am.
URL:https://royaleboston.com/event/matoma/
LOCATION:Royale Nightclub Boston\, MA\, 279 Tremont Street\, Boston\, MA\, 02116\, United States
CATEGORIES:Nightclub
ATTACH;FMTTYPE=image/png:https://royaleboston.com/wp-content/uploads/2015/08/SOFA-KING-Fall-2015-Lineup_V2.png
GEO:42.3499959;-71.0656288
X-APPLE-STRUCTURED-LOCATION;VALUE=URI;X-ADDRESS=Royale Nightclub Boston MA 279 Tremont Street Boston MA 02116 United States;X-APPLE-RADIUS=500;X-TITLE=279 Tremont Street:geo:-71.0656288,42.3499959
END:VEVENT
BEGIN:VEVENT
DTSTART;TZID=America/New_York:20151009T220000
DTEND;TZID=America/New_York:20151009T220000
DTSTAMP:20260424T073452
CREATED:20150903T005506Z
LAST-MODIFIED:20150903T005506Z
UID:10001778-1444428000-1444428000@royaleboston.com
SUMMARY:W&W
DESCRIPTION:21 + \nMgt reserves the right to refuse admission. Dress code applies. Admission not guaranteed after 12am.
URL:https://royaleboston.com/event/ww/
LOCATION:Royale Nightclub Boston\, MA\, 279 Tremont Street\, Boston\, MA\, 02116\, United States
CATEGORIES:Nightclub
ATTACH;FMTTYPE=image/png:https://royaleboston.com/wp-content/uploads/2015/09/SOFA-KING-WW-10-9-15.png
GEO:42.3499959;-71.0656288
X-APPLE-STRUCTURED-LOCATION;VALUE=URI;X-ADDRESS=Royale Nightclub Boston MA 279 Tremont Street Boston MA 02116 United States;X-APPLE-RADIUS=500;X-TITLE=279 Tremont Street:geo:-71.0656288,42.3499959
END:VEVENT
BEGIN:VEVENT
DTSTART;TZID=America/New_York:20151010T220000
DTEND;TZID=America/New_York:20151010T220000
DTSTAMP:20260424T073452
CREATED:20150910T033911Z
LAST-MODIFIED:20150910T033911Z
UID:10001880-1444514400-1444514400@royaleboston.com
SUMMARY:DOSVEC
DESCRIPTION:21+ \nMgt reserves the right to refuse admission. Dress code applies. Admission not guaranteed after 12am.
URL:https://royaleboston.com/event/dosvec/
LOCATION:Royale Nightclub Boston\, MA\, 279 Tremont Street\, Boston\, MA\, 02116\, United States
CATEGORIES:Nightclub
ATTACH;FMTTYPE=image/jpeg:https://royaleboston.com/wp-content/uploads/2015/09/10.10-dosvec-r.jpg
GEO:42.3499959;-71.0656288
X-APPLE-STRUCTURED-LOCATION;VALUE=URI;X-ADDRESS=Royale Nightclub Boston MA 279 Tremont Street Boston MA 02116 United States;X-APPLE-RADIUS=500;X-TITLE=279 Tremont Street:geo:-71.0656288,42.3499959
END:VEVENT
BEGIN:VEVENT
DTSTART;TZID=America/New_York:20151011T220000
DTEND;TZID=America/New_York:20151011T220000
DTSTAMP:20260424T073452
CREATED:20150910T035001Z
LAST-MODIFIED:20150910T035001Z
UID:10001895-1444600800-1444600800@royaleboston.com
SUMMARY:Isaac Escalante
DESCRIPTION:21 + \nMgt reserves the right to refuse admission. Dress code applies. Admission not guaranteed after 12am.
URL:https://royaleboston.com/event/isaac-escalante/
LOCATION:Royale Nightclub Boston\, MA\, 279 Tremont Street\, Boston\, MA\, 02116\, United States
CATEGORIES:Nightclub
ATTACH;FMTTYPE=image/jpeg:https://royaleboston.com/wp-content/uploads/2015/09/10.11-queen.jpg
GEO:42.3499959;-71.0656288
X-APPLE-STRUCTURED-LOCATION;VALUE=URI;X-ADDRESS=Royale Nightclub Boston MA 279 Tremont Street Boston MA 02116 United States;X-APPLE-RADIUS=500;X-TITLE=279 Tremont Street:geo:-71.0656288,42.3499959
END:VEVENT
BEGIN:VEVENT
DTSTART;TZID=America/New_York:20151016T220000
DTEND;TZID=America/New_York:20151016T220000
DTSTAMP:20260424T073452
CREATED:20150903T005808Z
LAST-MODIFIED:20150903T005808Z
UID:10001780-1445032800-1445032800@royaleboston.com
SUMMARY:THE CHAINSMOKERS
DESCRIPTION:21 + \nMgt reserves the right to refuse admission. Dress code applies. Admission not guaranteed after 12am.
URL:https://royaleboston.com/event/the-chainsmokers-2/
LOCATION:Royale Nightclub Boston\, MA\, 279 Tremont Street\, Boston\, MA\, 02116\, United States
CATEGORIES:Nightclub
ATTACH;FMTTYPE=image/png:https://royaleboston.com/wp-content/uploads/2015/09/SOFA-KING-The-Chainsmokers-10-16-15.png
GEO:42.3499959;-71.0656288
X-APPLE-STRUCTURED-LOCATION;VALUE=URI;X-ADDRESS=Royale Nightclub Boston MA 279 Tremont Street Boston MA 02116 United States;X-APPLE-RADIUS=500;X-TITLE=279 Tremont Street:geo:-71.0656288,42.3499959
END:VEVENT
BEGIN:VEVENT
DTSTART;TZID=America/New_York:20151020T200000
DTEND;TZID=America/New_York:20151020T200000
DTSTAMP:20260424T073452
CREATED:20150909T023302Z
LAST-MODIFIED:20150909T023302Z
UID:10001571-1445371200-1445371200@royaleboston.com
SUMMARY:Duke Dumont Live
DESCRIPTION:Doors: 8:00 pm / Show: 9:00 pm \nThis event is 18 and over. \nPresented in association with Mmmmaven. \nTickets available at TICKETMASTER.COM\, or by phone at 800-745-3000. No service charge on tickets purchased in person at The Sinclair Box Office Wednesdays-Saturdays 12-7PM. Please note: box office is cash only. \n*** \nBefore 2012 Duke Dumont was known as a ‘producer’s producer’. He was the name on a 12″ record the DJ knew to reach for when he wanted to please the crowd\, without them knowing who had constructed the mesmerising sonic confection they were dancing too. \nIn 2012\, two EPs on Tiga’s Turbo Recordings (with whom Duke has had a long standing relationship) changed all that. ‘For Club Play Vol. 1 & 2’ offered up sweet ecstatic deep house & UK bass cuts that have united people across the spectrum of music\, from early club adopters like Annie Mac\, Erol Alkan\, Diplo\, Martyn and Jackmaster to Fearne Cotton on daytime Radio 1\, Trevor Nelson on 1xtra and even podcasts by Tiesto and Avicci. On some nights in Duke’s beloved Fabric London\, you would hear the anthemic ‘The Giver’ being played in all three rooms at the same time. \nDuke’s early career was mentored by Switch (last sighted producing for Beyoncé) and he made his name as the ‘go-to’ man to remake a pop song for the dance floor (Lily Allen and Bat For Lashes were notable clients). In 2011\, he moved out of London to the countryside (Hertfordshire\, where his studio overlooks a forest) to focus on his original material. \nSynthesising his influences from techno to UK garage and house he brought back goodies from this zen-like exile. ‘For Club Play Only Vol. 1’ was released in April 2012 on Turbo. With ‘Street Walker’ and ‘Thunderclap’ on there\, it alerted the heads to the Duke movement and received support from the likes of Jamie Jones and Simian Mobile Disco. \nRemixes for AlunaGeorge and Santigold quickly followed\, then in August ‘For Club Play Only Vol.2’ featuring ‘No Money Blues’ and ‘The Giver’ made Duke the man to watch. ‘The producer’s producer’ had become the ‘people’s producer’. \n‘Need U (100%)’ features 17 year-old starlet A*M*E* on singing duties. With a chunky low-end\, funky stabs and silky vocals this is like an early 90s house classic couched in 2013 techno techniques. In 1988 Inner City would have been jealous of this one. \nCo-written by teenage wonder-kid MNEK (who recently sung on Rudimental’s ‘Spoons’ with Syron) ‘Need U (100%)’ is out now on his newly minted Blasé Boys Club label.
URL:https://royaleboston.com/event/duke-dumont-live/
LOCATION:Royale Nightclub Boston\, MA\, 279 Tremont Street\, Boston\, MA\, 02116\, United States
CATEGORIES:Concerts,Nightclub
ATTACH;FMTTYPE=image/jpeg:https://royaleboston.com/wp-content/uploads/2015/09/DD_UK_SINGLE-DATE-A6-FLYER-LOCALIZED1.jpg
ORGANIZER;CN="Bowery Boston":MAILTO:info@boweryboston.com
GEO:42.3499959;-71.0656288
X-APPLE-STRUCTURED-LOCATION;VALUE=URI;X-ADDRESS=Royale Nightclub Boston MA 279 Tremont Street Boston MA 02116 United States;X-APPLE-RADIUS=500;X-TITLE=279 Tremont Street:geo:-71.0656288,42.3499959
END:VEVENT
BEGIN:VEVENT
DTSTART;TZID=America/New_York:20151021T230000
DTEND;TZID=America/New_York:20151021T230000
DTSTAMP:20260424T073452
CREATED:20150903T010022Z
LAST-MODIFIED:20150903T010022Z
UID:10001797-1445468400-1445468400@royaleboston.com
SUMMARY:KASKADE
DESCRIPTION:21 + \nMgt reserves the right to refuse admission. Dress code applies. Admission not guaranteed after 12am.
URL:https://royaleboston.com/event/kaskade/
LOCATION:Royale Nightclub Boston\, MA\, 279 Tremont Street\, Boston\, MA\, 02116\, United States
CATEGORIES:Nightclub
ATTACH;FMTTYPE=image/png:https://royaleboston.com/wp-content/uploads/2015/09/Kaskade_ROYALE.png
GEO:42.3499959;-71.0656288
X-APPLE-STRUCTURED-LOCATION;VALUE=URI;X-ADDRESS=Royale Nightclub Boston MA 279 Tremont Street Boston MA 02116 United States;X-APPLE-RADIUS=500;X-TITLE=279 Tremont Street:geo:-71.0656288,42.3499959
END:VEVENT
BEGIN:VEVENT
DTSTART;TZID=America/New_York:20151023T100000
DTEND;TZID=America/New_York:20151023T220000
DTSTAMP:20260424T073452
CREATED:20150903T011534Z
LAST-MODIFIED:20150903T011534Z
UID:10001799-1445594400-1445637600@royaleboston.com
SUMMARY:DANNY AVILA
DESCRIPTION:21 + \nMgt reserves the right to refuse admission. Dress code applies. Admission not guaranteed after 12am.
URL:https://royaleboston.com/event/danny-avila/
LOCATION:Royale Nightclub Boston\, MA\, 279 Tremont Street\, Boston\, MA\, 02116\, United States
CATEGORIES:Nightclub
ATTACH;FMTTYPE=image/png:https://royaleboston.com/wp-content/uploads/2015/09/SOFA-KING-Danny-Avila-10-23-15.png
GEO:42.3499959;-71.0656288
X-APPLE-STRUCTURED-LOCATION;VALUE=URI;X-ADDRESS=Royale Nightclub Boston MA 279 Tremont Street Boston MA 02116 United States;X-APPLE-RADIUS=500;X-TITLE=279 Tremont Street:geo:-71.0656288,42.3499959
END:VEVENT
BEGIN:VEVENT
DTSTART;TZID=America/New_York:20151024T220000
DTEND;TZID=America/New_York:20151025T220000
DTSTAMP:20260424T073452
CREATED:20151020T161512Z
LAST-MODIFIED:20151020T161512Z
UID:10001905-1445724000-1445810400@royaleboston.com
SUMMARY:ROYALE SATURDAY
DESCRIPTION:
URL:https://royaleboston.com/event/royale-saturday/
LOCATION:Royale Nightclub Boston\, MA\, 279 Tremont Street\, Boston\, MA\, 02116\, United States
CATEGORIES:Nightclub
ATTACH;FMTTYPE=image/jpeg:https://royaleboston.com/wp-content/uploads/2015/10/ROYALE_FRAIOLI_600X900_1.jpg
GEO:42.3499959;-71.0656288
X-APPLE-STRUCTURED-LOCATION;VALUE=URI;X-ADDRESS=Royale Nightclub Boston MA 279 Tremont Street Boston MA 02116 United States;X-APPLE-RADIUS=500;X-TITLE=279 Tremont Street:geo:-71.0656288,42.3499959
END:VEVENT
BEGIN:VEVENT
DTSTART;TZID=America/New_York:20151025T220000
DTEND;TZID=America/New_York:20151025T220000
DTSTAMP:20260424T073452
CREATED:20150903T011936Z
LAST-MODIFIED:20150903T011936Z
UID:10001800-1445810400-1445810400@royaleboston.com
SUMMARY:GRIZ
DESCRIPTION:21 + \nMgt reserves the right to refuse admission. Dress code applies. Admission not guaranteed after 12am.
URL:https://royaleboston.com/event/griz/
LOCATION:Royale Nightclub Boston\, MA\, 279 Tremont Street\, Boston\, MA\, 02116\, United States
CATEGORIES:Nightclub
ATTACH;FMTTYPE=image/jpeg:https://royaleboston.com/wp-content/uploads/2015/09/10.25.jpg
GEO:42.3499959;-71.0656288
X-APPLE-STRUCTURED-LOCATION;VALUE=URI;X-ADDRESS=Royale Nightclub Boston MA 279 Tremont Street Boston MA 02116 United States;X-APPLE-RADIUS=500;X-TITLE=279 Tremont Street:geo:-71.0656288,42.3499959
END:VEVENT
BEGIN:VEVENT
DTSTART;TZID=America/New_York:20151029T220000
DTEND;TZID=America/New_York:20151029T220000
DTSTAMP:20260424T073452
CREATED:20150925T232916Z
LAST-MODIFIED:20150925T232916Z
UID:10001573-1446156000-1446156000@royaleboston.com
SUMMARY:NERVO HALLOWEEN
DESCRIPTION:21+
URL:https://royaleboston.com/event/halloween/
LOCATION:Royale Nightclub Boston\, MA\, 279 Tremont Street\, Boston\, MA\, 02116\, United States
CATEGORIES:Nightclub
ATTACH;FMTTYPE=image/jpeg:https://royaleboston.com/wp-content/uploads/2015/09/10.29-Nervo.jpg
GEO:42.3499959;-71.0656288
X-APPLE-STRUCTURED-LOCATION;VALUE=URI;X-ADDRESS=Royale Nightclub Boston MA 279 Tremont Street Boston MA 02116 United States;X-APPLE-RADIUS=500;X-TITLE=279 Tremont Street:geo:-71.0656288,42.3499959
END:VEVENT
BEGIN:VEVENT
DTSTART;TZID=America/New_York:20151030T220000
DTEND;TZID=America/New_York:20151030T220000
DTSTAMP:20260424T073452
CREATED:20151020T185452Z
LAST-MODIFIED:20151020T185452Z
UID:10001921-1446242400-1446242400@royaleboston.com
SUMMARY:FRIDAY HAUNTED MANOR
DESCRIPTION:21+\nCostumes Required for entry. \nManagement reserves the right to refuse admission.
URL:https://royaleboston.com/event/friday-haunted-manor/
LOCATION:Royale Nightclub Boston\, MA\, 279 Tremont Street\, Boston\, MA\, 02116\, United States
CATEGORIES:Nightclub
ATTACH;FMTTYPE=image/jpeg:https://royaleboston.com/wp-content/uploads/2015/10/10.30-Dsk-Chk.jpg
GEO:42.3499959;-71.0656288
X-APPLE-STRUCTURED-LOCATION;VALUE=URI;X-ADDRESS=Royale Nightclub Boston MA 279 Tremont Street Boston MA 02116 United States;X-APPLE-RADIUS=500;X-TITLE=279 Tremont Street:geo:-71.0656288,42.3499959
END:VEVENT
BEGIN:VEVENT
DTSTART;TZID=America/New_York:20151031T210000
DTEND;TZID=America/New_York:20151031T210000
DTSTAMP:20260424T073452
CREATED:20151020T192609Z
LAST-MODIFIED:20151020T192609Z
UID:10001955-1446325200-1446325200@royaleboston.com
SUMMARY:HAUNTED MANOR
DESCRIPTION:21+\nCostumes Required for entry. \nManagement reserves the right to refuse admission.
URL:https://royaleboston.com/event/haunted-manor/
LOCATION:Royale Nightclub Boston\, MA\, 279 Tremont Street\, Boston\, MA\, 02116\, United States
CATEGORIES:Nightclub
ATTACH;FMTTYPE=image/jpeg:https://royaleboston.com/wp-content/uploads/2015/10/10.31-Breeazy-Halloween.jpg
GEO:42.3499959;-71.0656288
X-APPLE-STRUCTURED-LOCATION;VALUE=URI;X-ADDRESS=Royale Nightclub Boston MA 279 Tremont Street Boston MA 02116 United States;X-APPLE-RADIUS=500;X-TITLE=279 Tremont Street:geo:-71.0656288,42.3499959
END:VEVENT
END:VCALENDAR