BEGIN:VCALENDAR
VERSION:2.0
PRODID:-//Royale Boston - ECPv6.15.20//NONSGML v1.0//EN
CALSCALE:GREGORIAN
METHOD:PUBLISH
X-WR-CALNAME:Royale Boston
X-ORIGINAL-URL:https://royaleboston.com
X-WR-CALDESC:Events for Royale Boston
REFRESH-INTERVAL;VALUE=DURATION:PT1H
X-Robots-Tag:noindex
X-PUBLISHED-TTL:PT1H
BEGIN:VTIMEZONE
TZID:America/New_York
BEGIN:DAYLIGHT
TZOFFSETFROM:-0500
TZOFFSETTO:-0400
TZNAME:EDT
DTSTART:20150308T070000
END:DAYLIGHT
BEGIN:STANDARD
TZOFFSETFROM:-0400
TZOFFSETTO:-0500
TZNAME:EST
DTSTART:20151101T060000
END:STANDARD
BEGIN:DAYLIGHT
TZOFFSETFROM:-0500
TZOFFSETTO:-0400
TZNAME:EDT
DTSTART:20160313T070000
END:DAYLIGHT
BEGIN:STANDARD
TZOFFSETFROM:-0400
TZOFFSETTO:-0500
TZNAME:EST
DTSTART:20161106T060000
END:STANDARD
BEGIN:DAYLIGHT
TZOFFSETFROM:-0500
TZOFFSETTO:-0400
TZNAME:EDT
DTSTART:20170312T070000
END:DAYLIGHT
BEGIN:STANDARD
TZOFFSETFROM:-0400
TZOFFSETTO:-0500
TZNAME:EST
DTSTART:20171105T060000
END:STANDARD
END:VTIMEZONE
BEGIN:VEVENT
DTSTART;TZID=America/New_York:20160226T220000
DTEND;TZID=America/New_York:20160226T220000
DTSTAMP:20260422T154817
CREATED:20151201T204349Z
LAST-MODIFIED:20151201T204349Z
UID:10001605-1456524000-1456524000@royaleboston.com
SUMMARY:EDX
DESCRIPTION:Support by:\nNora En Pure\nCroatia Squad\nAntonio Giacca \n21+ \nManagement reserves the right to refuse entry. Admission not guaranteed after 12AM
URL:https://royaleboston.com/event/edx/
LOCATION:Royale Nightclub Boston\, MA\, 279 Tremont Street\, Boston\, MA\, 02116\, United States
CATEGORIES:Nightclub
ATTACH;FMTTYPE=image/jpeg:https://royaleboston.com/wp-content/uploads/2016/02/10330399_1117284481615511_5700003960129221967_n.jpg
GEO:42.3499959;-71.0656288
X-APPLE-STRUCTURED-LOCATION;VALUE=URI;X-ADDRESS=Royale Nightclub Boston MA 279 Tremont Street Boston MA 02116 United States;X-APPLE-RADIUS=500;X-TITLE=279 Tremont Street:geo:-71.0656288,42.3499959
END:VEVENT
BEGIN:VEVENT
DTSTART;TZID=America/New_York:20160227T220000
DTEND;TZID=America/New_York:20160227T220000
DTSTAMP:20260422T154817
CREATED:20160224T191710Z
LAST-MODIFIED:20160224T191710Z
UID:10002201-1456610400-1456610400@royaleboston.com
SUMMARY:Red Carpet Party
DESCRIPTION:21+
URL:https://royaleboston.com/event/red-carpet-party/
LOCATION:Royale Nightclub Boston\, MA\, 279 Tremont Street\, Boston\, MA\, 02116\, United States
CATEGORIES:Nightclub
ATTACH;FMTTYPE=image/jpeg:https://royaleboston.com/wp-content/uploads/2016/02/ROYALE_RED_CARPET_600X9001.jpg
GEO:42.3499959;-71.0656288
X-APPLE-STRUCTURED-LOCATION;VALUE=URI;X-ADDRESS=Royale Nightclub Boston MA 279 Tremont Street Boston MA 02116 United States;X-APPLE-RADIUS=500;X-TITLE=279 Tremont Street:geo:-71.0656288,42.3499959
END:VEVENT
BEGIN:VEVENT
DTSTART;TZID=America/New_York:20160302T220000
DTEND;TZID=America/New_York:20160302T220000
DTSTAMP:20260422T154817
CREATED:20151216T185759Z
LAST-MODIFIED:20151216T185759Z
UID:10002120-1456956000-1456956000@royaleboston.com
SUMMARY:HARDWELL
DESCRIPTION:21+
URL:https://royaleboston.com/event/hardwell/
LOCATION:Royale Nightclub Boston\, MA\, 279 Tremont Street\, Boston\, MA\, 02116\, United States
CATEGORIES:Concerts,Nightclub
ATTACH;FMTTYPE=image/jpeg:https://royaleboston.com/wp-content/uploads/2015/12/3.02-Hardwell.jpg
GEO:42.3499959;-71.0656288
X-APPLE-STRUCTURED-LOCATION;VALUE=URI;X-ADDRESS=Royale Nightclub Boston MA 279 Tremont Street Boston MA 02116 United States;X-APPLE-RADIUS=500;X-TITLE=279 Tremont Street:geo:-71.0656288,42.3499959
END:VEVENT
BEGIN:VEVENT
DTSTART;TZID=America/New_York:20160304T220000
DTEND;TZID=America/New_York:20160304T220000
DTSTAMP:20260422T154817
CREATED:20151201T205007Z
LAST-MODIFIED:20151201T205007Z
UID:10001606-1457128800-1457128800@royaleboston.com
SUMMARY:MICHAEL WOODS
DESCRIPTION:21+ \nMANAGEMENT RESERVES THE RIGHT TO REFUSE ENTRY. ADMISSION NOT GUARANTEED AFTER 12AM
URL:https://royaleboston.com/event/michael-woods/
LOCATION:Royale Nightclub Boston\, MA\, 279 Tremont Street\, Boston\, MA\, 02116\, United States
CATEGORIES:Nightclub
ATTACH;FMTTYPE=image/jpeg:https://royaleboston.com/wp-content/uploads/2015/12/3.04-Michael-Woods.jpg
GEO:42.3499959;-71.0656288
X-APPLE-STRUCTURED-LOCATION;VALUE=URI;X-ADDRESS=Royale Nightclub Boston MA 279 Tremont Street Boston MA 02116 United States;X-APPLE-RADIUS=500;X-TITLE=279 Tremont Street:geo:-71.0656288,42.3499959
END:VEVENT
BEGIN:VEVENT
DTSTART;TZID=America/New_York:20160305T100000
DTEND;TZID=America/New_York:20160305T220000
DTSTAMP:20260422T154817
CREATED:20160301T194050Z
LAST-MODIFIED:20160301T194050Z
UID:10002245-1457172000-1457215200@royaleboston.com
SUMMARY:Liz Ladoux
DESCRIPTION:21+ \nManagement reserves the right to refuse admission.
URL:https://royaleboston.com/event/liz-ladoux/
LOCATION:Royale Nightclub Boston\, MA\, 279 Tremont Street\, Boston\, MA\, 02116\, United States
CATEGORIES:Nightclub
ATTACH;FMTTYPE=image/jpeg:https://royaleboston.com/wp-content/uploads/2016/03/ROYALE_LIZL_600X900.jpg
GEO:42.3499959;-71.0656288
X-APPLE-STRUCTURED-LOCATION;VALUE=URI;X-ADDRESS=Royale Nightclub Boston MA 279 Tremont Street Boston MA 02116 United States;X-APPLE-RADIUS=500;X-TITLE=279 Tremont Street:geo:-71.0656288,42.3499959
END:VEVENT
BEGIN:VEVENT
DTSTART;TZID=America/New_York:20160311T220000
DTEND;TZID=America/New_York:20160311T220000
DTSTAMP:20260422T154817
CREATED:20160204T220053Z
LAST-MODIFIED:20160204T220053Z
UID:10002196-1457733600-1457733600@royaleboston.com
SUMMARY:INGROSSO
DESCRIPTION:21+ \n*Management has the right to refuse entry / No refunds of any kind all sales are final.
URL:https://royaleboston.com/event/ingrosso/
LOCATION:Royale Nightclub Boston\, MA\, 279 Tremont Street\, Boston\, MA\, 02116\, United States
CATEGORIES:Nightclub
ATTACH;FMTTYPE=image/jpeg:https://royaleboston.com/wp-content/uploads/2016/02/3.11-INGROSSO1.jpg
GEO:42.3499959;-71.0656288
X-APPLE-STRUCTURED-LOCATION;VALUE=URI;X-ADDRESS=Royale Nightclub Boston MA 279 Tremont Street Boston MA 02116 United States;X-APPLE-RADIUS=500;X-TITLE=279 Tremont Street:geo:-71.0656288,42.3499959
END:VEVENT
BEGIN:VEVENT
DTSTART;TZID=America/New_York:20160312T220000
DTEND;TZID=America/New_York:20160312T220000
DTSTAMP:20260422T154817
CREATED:20160308T205138Z
LAST-MODIFIED:20160308T205138Z
UID:10002272-1457820000-1457820000@royaleboston.com
SUMMARY:ALL THAT GLITTERS
DESCRIPTION:21+ \nManagement reserves the right to refuse admission.
URL:https://royaleboston.com/event/9344/
LOCATION:Royale Nightclub Boston\, MA\, 279 Tremont Street\, Boston\, MA\, 02116\, United States
CATEGORIES:Nightclub
ATTACH;FMTTYPE=image/jpeg:https://royaleboston.com/wp-content/uploads/2016/03/3.12-Glitters.jpg
GEO:42.3499959;-71.0656288
X-APPLE-STRUCTURED-LOCATION;VALUE=URI;X-ADDRESS=Royale Nightclub Boston MA 279 Tremont Street Boston MA 02116 United States;X-APPLE-RADIUS=500;X-TITLE=279 Tremont Street:geo:-71.0656288,42.3499959
END:VEVENT
BEGIN:VEVENT
DTSTART;TZID=America/New_York:20160318T230000
DTEND;TZID=America/New_York:20160318T230000
DTSTAMP:20260422T154817
CREATED:20160204T220047Z
LAST-MODIFIED:20160204T220047Z
UID:10002198-1458342000-1458342000@royaleboston.com
SUMMARY:BINGO PLAYERS
DESCRIPTION:21+ \n*Management has the right to refuse entry / No refunds of any kind all sales are final.
URL:https://royaleboston.com/event/bingo-players-2/
LOCATION:Royale Nightclub Boston\, MA\, 279 Tremont Street\, Boston\, MA\, 02116\, United States
CATEGORIES:Nightclub
ATTACH;FMTTYPE=image/jpeg:https://royaleboston.com/wp-content/uploads/2016/02/3.18-BINGO.jpg
GEO:42.3499959;-71.0656288
X-APPLE-STRUCTURED-LOCATION;VALUE=URI;X-ADDRESS=Royale Nightclub Boston MA 279 Tremont Street Boston MA 02116 United States;X-APPLE-RADIUS=500;X-TITLE=279 Tremont Street:geo:-71.0656288,42.3499959
END:VEVENT
BEGIN:VEVENT
DTSTART;TZID=America/New_York:20160319T220000
DTEND;TZID=America/New_York:20160319T220000
DTSTAMP:20260422T154817
CREATED:20160315T231848Z
LAST-MODIFIED:20160315T231848Z
UID:10001641-1458424800-1458424800@royaleboston.com
SUMMARY:GET LUCKY
DESCRIPTION:21+ \nManagement reserves the right to refuse entry. Admission not guaranteed after midnight.
URL:https://royaleboston.com/event/get-lucky/
LOCATION:Royale Nightclub Boston\, MA\, 279 Tremont Street\, Boston\, MA\, 02116\, United States
CATEGORIES:Nightclub
ATTACH;FMTTYPE=image/jpeg:https://royaleboston.com/wp-content/uploads/2016/03/ROYALE_GET_LUCKY_4X6.jpg
GEO:42.3499959;-71.0656288
X-APPLE-STRUCTURED-LOCATION;VALUE=URI;X-ADDRESS=Royale Nightclub Boston MA 279 Tremont Street Boston MA 02116 United States;X-APPLE-RADIUS=500;X-TITLE=279 Tremont Street:geo:-71.0656288,42.3499959
END:VEVENT
BEGIN:VEVENT
DTSTART;TZID=America/New_York:20160325T220000
DTEND;TZID=America/New_York:20160325T220000
DTSTAMP:20260422T154817
CREATED:20160204T220057Z
LAST-MODIFIED:20160204T220057Z
UID:10002199-1458943200-1458943200@royaleboston.com
SUMMARY:SUNNERY JAMES & RYAN MARCIANO
DESCRIPTION:21+ \nManagement reserves the right to refuse entry
URL:https://royaleboston.com/event/sunnery-james-ryan-marciano/
LOCATION:Royale Nightclub Boston\, MA\, 279 Tremont Street\, Boston\, MA\, 02116\, United States
CATEGORIES:Nightclub
ATTACH;FMTTYPE=image/jpeg:https://royaleboston.com/wp-content/uploads/2016/02/3.15-SJRM.jpg
GEO:42.3499959;-71.0656288
X-APPLE-STRUCTURED-LOCATION;VALUE=URI;X-ADDRESS=Royale Nightclub Boston MA 279 Tremont Street Boston MA 02116 United States;X-APPLE-RADIUS=500;X-TITLE=279 Tremont Street:geo:-71.0656288,42.3499959
END:VEVENT
BEGIN:VEVENT
DTSTART;TZID=America/New_York:20160326T220000
DTEND;TZID=America/New_York:20160326T220000
DTSTAMP:20260422T154817
CREATED:20160322T183031Z
LAST-MODIFIED:20160322T183031Z
UID:10001643-1459029600-1459029600@royaleboston.com
SUMMARY:DUDENGUY
DESCRIPTION:21+ \nManagement reserves the right to refuse entry.
URL:https://royaleboston.com/event/dudenguy/
LOCATION:Royale Nightclub Boston\, MA\, 279 Tremont Street\, Boston\, MA\, 02116\, United States
CATEGORIES:Nightclub
ATTACH;FMTTYPE=image/jpeg:https://royaleboston.com/wp-content/uploads/2016/03/ROYALE_DNG_600X900.jpg
GEO:42.3499959;-71.0656288
X-APPLE-STRUCTURED-LOCATION;VALUE=URI;X-ADDRESS=Royale Nightclub Boston MA 279 Tremont Street Boston MA 02116 United States;X-APPLE-RADIUS=500;X-TITLE=279 Tremont Street:geo:-71.0656288,42.3499959
END:VEVENT
BEGIN:VEVENT
DTSTART;TZID=America/New_York:20160401T220000
DTEND;TZID=America/New_York:20160401T220000
DTSTAMP:20260422T154817
CREATED:20160204T220044Z
LAST-MODIFIED:20160204T220044Z
UID:10001630-1459548000-1459548000@royaleboston.com
SUMMARY:MARSHMELLO
DESCRIPTION:21+ \nManagement reserves the right to refuse entry.
URL:https://royaleboston.com/event/marshmello/
LOCATION:Royale Nightclub Boston\, MA\, 279 Tremont Street\, Boston\, MA\, 02116\, United States
CATEGORIES:Nightclub
ATTACH;FMTTYPE=image/png:https://royaleboston.com/wp-content/uploads/2016/02/SOFAKING_MARSHMELLO.png
GEO:42.3499959;-71.0656288
X-APPLE-STRUCTURED-LOCATION;VALUE=URI;X-ADDRESS=Royale Nightclub Boston MA 279 Tremont Street Boston MA 02116 United States;X-APPLE-RADIUS=500;X-TITLE=279 Tremont Street:geo:-71.0656288,42.3499959
END:VEVENT
BEGIN:VEVENT
DTSTART;TZID=America/New_York:20160402T220000
DTEND;TZID=America/New_York:20160402T220000
DTSTAMP:20260422T154817
CREATED:20160331T214751Z
LAST-MODIFIED:20160331T214751Z
UID:10001649-1459634400-1459634400@royaleboston.com
SUMMARY:Joe Bermudez
DESCRIPTION:21+  \nManagement reserves the right to refuse entry. Admission not guaranteed after 12 AM
URL:https://royaleboston.com/event/joe-bermudez-2/
LOCATION:Royale Nightclub Boston\, MA\, 279 Tremont Street\, Boston\, MA\, 02116\, United States
CATEGORIES:Nightclub
ATTACH;FMTTYPE=image/jpeg:https://royaleboston.com/wp-content/uploads/2016/03/image2.jpg
GEO:42.3499959;-71.0656288
X-APPLE-STRUCTURED-LOCATION;VALUE=URI;X-ADDRESS=Royale Nightclub Boston MA 279 Tremont Street Boston MA 02116 United States;X-APPLE-RADIUS=500;X-TITLE=279 Tremont Street:geo:-71.0656288,42.3499959
END:VEVENT
BEGIN:VEVENT
DTSTART;TZID=America/New_York:20160408T220000
DTEND;TZID=America/New_York:20160408T220000
DTSTAMP:20260422T154817
CREATED:20160204T220038Z
LAST-MODIFIED:20160204T220038Z
UID:10001631-1460152800-1460152800@royaleboston.com
SUMMARY:AUDIEN
DESCRIPTION:21+ \nManagement reserves the right to refuse entry.
URL:https://royaleboston.com/event/audien/
LOCATION:Royale Nightclub Boston\, MA\, 279 Tremont Street\, Boston\, MA\, 02116\, United States
CATEGORIES:Nightclub
ATTACH;FMTTYPE=image/jpeg:https://royaleboston.com/wp-content/uploads/2016/02/1604920_678368408968705_3733119308658471394_n.jpg
GEO:42.3499959;-71.0656288
X-APPLE-STRUCTURED-LOCATION;VALUE=URI;X-ADDRESS=Royale Nightclub Boston MA 279 Tremont Street Boston MA 02116 United States;X-APPLE-RADIUS=500;X-TITLE=279 Tremont Street:geo:-71.0656288,42.3499959
END:VEVENT
BEGIN:VEVENT
DTSTART;TZID=America/New_York:20160409T220000
DTEND;TZID=America/New_York:20160409T220000
DTSTAMP:20260422T154817
CREATED:20160405T191812Z
LAST-MODIFIED:20160405T191812Z
UID:10002293-1460239200-1460239200@royaleboston.com
SUMMARY:Spring Fling Bunny Bash
DESCRIPTION:21+ \nManagement reserves the right to refuse entry.
URL:https://royaleboston.com/event/spring-fling-bunny-bash/
LOCATION:Royale Nightclub Boston\, MA\, 279 Tremont Street\, Boston\, MA\, 02116\, United States
CATEGORIES:Nightclub
ATTACH;FMTTYPE=image/jpeg:https://royaleboston.com/wp-content/uploads/2016/04/ROYALE_PLAYMATE_828x828.jpg
GEO:42.3499959;-71.0656288
X-APPLE-STRUCTURED-LOCATION;VALUE=URI;X-ADDRESS=Royale Nightclub Boston MA 279 Tremont Street Boston MA 02116 United States;X-APPLE-RADIUS=500;X-TITLE=279 Tremont Street:geo:-71.0656288,42.3499959
END:VEVENT
BEGIN:VEVENT
DTSTART;TZID=America/New_York:20160415T220000
DTEND;TZID=America/New_York:20160415T220000
DTSTAMP:20260422T154817
CREATED:20160318T191705Z
LAST-MODIFIED:20160318T191705Z
UID:10001642-1460757600-1460757600@royaleboston.com
SUMMARY:MATTHEW KOMA
DESCRIPTION:21+ \n*Management reserves the right to refuse entry / Admission not guaranteed after midnight / No refunds of any kind all sales are final.
URL:https://royaleboston.com/event/matthewkoma/
LOCATION:Royale Nightclub Boston\, MA\, 279 Tremont Street\, Boston\, MA\, 02116\, United States
CATEGORIES:Nightclub
ATTACH;FMTTYPE=image/jpeg:https://royaleboston.com/wp-content/uploads/2016/02/4.15-Matthew-Koma.jpg
GEO:42.3499959;-71.0656288
X-APPLE-STRUCTURED-LOCATION;VALUE=URI;X-ADDRESS=Royale Nightclub Boston MA 279 Tremont Street Boston MA 02116 United States;X-APPLE-RADIUS=500;X-TITLE=279 Tremont Street:geo:-71.0656288,42.3499959
END:VEVENT
BEGIN:VEVENT
DTSTART;TZID=America/New_York:20160416T220000
DTEND;TZID=America/New_York:20160416T220000
DTSTAMP:20260422T154817
CREATED:20160408T171848Z
LAST-MODIFIED:20160408T171848Z
UID:10002328-1460844000-1460844000@royaleboston.com
SUMMARY:ULTRA VIOLET
DESCRIPTION:21+ \nManagement reserves the right to refuse entry.
URL:https://royaleboston.com/event/ultra-violet/
LOCATION:Royale Nightclub Boston\, MA\, 279 Tremont Street\, Boston\, MA\, 02116\, United States
CATEGORIES:Nightclub
ATTACH;FMTTYPE=image/jpeg:https://royaleboston.com/wp-content/uploads/2016/04/ROYALE_UV_600X900.jpg
GEO:42.3499959;-71.0656288
X-APPLE-STRUCTURED-LOCATION;VALUE=URI;X-ADDRESS=Royale Nightclub Boston MA 279 Tremont Street Boston MA 02116 United States;X-APPLE-RADIUS=500;X-TITLE=279 Tremont Street:geo:-71.0656288,42.3499959
END:VEVENT
BEGIN:VEVENT
DTSTART;TZID=America/New_York:20160417T220000
DTEND;TZID=America/New_York:20160417T220000
DTSTAMP:20260422T154817
CREATED:20160331T162524Z
LAST-MODIFIED:20160331T162524Z
UID:10001648-1460930400-1460930400@royaleboston.com
SUMMARY:Thorgy Thor LIVE
DESCRIPTION:Chris Harris & Rafael Sanchez Present Thorgy Thor LIVE with DJ Richie Ladue. Hosted by Fena Barbitall \nFirst 100 people to arrive get to meet Thorgy! \n21+  \nManagement reserves the right to refuse entry.
URL:https://royaleboston.com/event/thorgy-thor-live/
LOCATION:Royale Nightclub Boston\, MA\, 279 Tremont Street\, Boston\, MA\, 02116\, United States
CATEGORIES:Nightclub
ATTACH;FMTTYPE=image/jpeg:https://royaleboston.com/wp-content/uploads/2016/03/HOTMESS_04172016-poster.jpg
GEO:42.3499959;-71.0656288
X-APPLE-STRUCTURED-LOCATION;VALUE=URI;X-ADDRESS=Royale Nightclub Boston MA 279 Tremont Street Boston MA 02116 United States;X-APPLE-RADIUS=500;X-TITLE=279 Tremont Street:geo:-71.0656288,42.3499959
END:VEVENT
BEGIN:VEVENT
DTSTART;TZID=America/New_York:20160422T220000
DTEND;TZID=America/New_York:20160422T220000
DTSTAMP:20260422T154817
CREATED:20160322T160047Z
LAST-MODIFIED:20160322T160047Z
UID:10001644-1461362400-1461362400@royaleboston.com
SUMMARY:ERICK MORILLO
DESCRIPTION:21+ \nMANAGEMENT RESERVES THE RIGHT TO REFUSE ADMISSION.
URL:https://royaleboston.com/event/erick-morillo/
LOCATION:Royale Nightclub Boston\, MA\, 279 Tremont Street\, Boston\, MA\, 02116\, United States
CATEGORIES:Nightclub
ATTACH;FMTTYPE=image/jpeg:https://royaleboston.com/wp-content/uploads/2016/03/4.22.jpg
GEO:42.3499959;-71.0656288
X-APPLE-STRUCTURED-LOCATION;VALUE=URI;X-ADDRESS=Royale Nightclub Boston MA 279 Tremont Street Boston MA 02116 United States;X-APPLE-RADIUS=500;X-TITLE=279 Tremont Street:geo:-71.0656288,42.3499959
END:VEVENT
BEGIN:VEVENT
DTSTART;TZID=America/New_York:20160423T220000
DTEND;TZID=America/New_York:20160423T220000
DTSTAMP:20260422T154817
CREATED:20160419T174837Z
LAST-MODIFIED:20160419T174837Z
UID:10001652-1461448800-1461448800@royaleboston.com
SUMMARY:Liz Ladoux
DESCRIPTION:21+ \nManagement reserves the right to refuse entry.
URL:https://royaleboston.com/event/liz-ladoux-2/
LOCATION:Royale Nightclub Boston\, MA\, 279 Tremont Street\, Boston\, MA\, 02116\, United States
CATEGORIES:Nightclub
ATTACH;FMTTYPE=image/jpeg:https://royaleboston.com/wp-content/uploads/2016/04/ROYALE_LL_APRIL16_600X900.jpg
GEO:42.3499959;-71.0656288
X-APPLE-STRUCTURED-LOCATION;VALUE=URI;X-ADDRESS=Royale Nightclub Boston MA 279 Tremont Street Boston MA 02116 United States;X-APPLE-RADIUS=500;X-TITLE=279 Tremont Street:geo:-71.0656288,42.3499959
END:VEVENT
BEGIN:VEVENT
DTSTART;TZID=America/New_York:20160429T220000
DTEND;TZID=America/New_York:20160429T220000
DTSTAMP:20260422T154817
CREATED:20160204T220031Z
LAST-MODIFIED:20160204T220031Z
UID:10001632-1461967200-1461967200@royaleboston.com
SUMMARY:TJR
DESCRIPTION:21+
URL:https://royaleboston.com/event/tjr/
LOCATION:Royale Nightclub Boston\, MA\, 279 Tremont Street\, Boston\, MA\, 02116\, United States
CATEGORIES:Nightclub
ATTACH;FMTTYPE=image/jpeg:https://royaleboston.com/wp-content/uploads/2016/02/4.29-TJR.jpg
GEO:42.3499959;-71.0656288
X-APPLE-STRUCTURED-LOCATION;VALUE=URI;X-ADDRESS=Royale Nightclub Boston MA 279 Tremont Street Boston MA 02116 United States;X-APPLE-RADIUS=500;X-TITLE=279 Tremont Street:geo:-71.0656288,42.3499959
END:VEVENT
BEGIN:VEVENT
DTSTART;TZID=America/New_York:20160430T220000
DTEND;TZID=America/New_York:20160430T220000
DTSTAMP:20260422T154817
CREATED:20160311T190258Z
LAST-MODIFIED:20160311T190258Z
UID:10001640-1462053600-1462053600@royaleboston.com
SUMMARY:6th Birthday Party w/ Lil Jon
DESCRIPTION:21+ \nManagement reserves the right to refuse entry. Admission not guaranteed after 12AM
URL:https://royaleboston.com/event/6th-birthday-party-w-lil-jon/
LOCATION:Royale Nightclub Boston\, MA\, 279 Tremont Street\, Boston\, MA\, 02116\, United States
CATEGORIES:Nightclub
ATTACH;FMTTYPE=image/jpeg:https://royaleboston.com/wp-content/uploads/2016/03/12806092_1089017884494499_6973089927090719079_n.jpg
GEO:42.3499959;-71.0656288
X-APPLE-STRUCTURED-LOCATION;VALUE=URI;X-ADDRESS=Royale Nightclub Boston MA 279 Tremont Street Boston MA 02116 United States;X-APPLE-RADIUS=500;X-TITLE=279 Tremont Street:geo:-71.0656288,42.3499959
END:VEVENT
BEGIN:VEVENT
DTSTART;TZID=America/New_York:20160506T220000
DTEND;TZID=America/New_York:20160506T220000
DTSTAMP:20260422T154817
CREATED:20160408T051154Z
LAST-MODIFIED:20160408T051154Z
UID:10002292-1462572000-1462572000@royaleboston.com
SUMMARY:BORGEOUS
DESCRIPTION:21+ \n*Management reserves the right to refuse entry / Admission not guaranteed after midnight / No refunds of any kind all sales are final.
URL:https://royaleboston.com/event/borgeous/
LOCATION:Royale Nightclub Boston\, MA\, 279 Tremont Street\, Boston\, MA\, 02116\, United States
CATEGORIES:Nightclub
ATTACH;FMTTYPE=image/jpeg:https://royaleboston.com/wp-content/uploads/2016/04/5.6.jpg
GEO:42.3499959;-71.0656288
X-APPLE-STRUCTURED-LOCATION;VALUE=URI;X-ADDRESS=Royale Nightclub Boston MA 279 Tremont Street Boston MA 02116 United States;X-APPLE-RADIUS=500;X-TITLE=279 Tremont Street:geo:-71.0656288,42.3499959
END:VEVENT
BEGIN:VEVENT
DTSTART;TZID=America/New_York:20160507T220000
DTEND;TZID=America/New_York:20160507T220000
DTSTAMP:20260422T154817
CREATED:20160502T163849Z
LAST-MODIFIED:20160502T163849Z
UID:10002352-1462658400-1462658400@royaleboston.com
SUMMARY:Cinco De Mayo
DESCRIPTION:21+ \nLadies free before 11pm w/ RSVP ticket.
URL:https://royaleboston.com/event/cinco-de-mayo/
LOCATION:Royale Nightclub Boston\, MA\, 279 Tremont Street\, Boston\, MA\, 02116\, United States
CATEGORIES:Nightclub
ATTACH;FMTTYPE=image/jpeg:https://royaleboston.com/wp-content/uploads/2016/05/ROYALE_CINCO_600X900.jpg
GEO:42.3499959;-71.0656288
X-APPLE-STRUCTURED-LOCATION;VALUE=URI;X-ADDRESS=Royale Nightclub Boston MA 279 Tremont Street Boston MA 02116 United States;X-APPLE-RADIUS=500;X-TITLE=279 Tremont Street:geo:-71.0656288,42.3499959
END:VEVENT
BEGIN:VEVENT
DTSTART;TZID=America/New_York:20160513T220000
DTEND;TZID=America/New_York:20160513T220000
DTSTAMP:20260422T154817
CREATED:20160421T225426Z
LAST-MODIFIED:20160421T225426Z
UID:10001654-1463176800-1463176800@royaleboston.com
SUMMARY:Madeon
DESCRIPTION:21+ \n*Management reserves the right to refuse entry / Admission not guaranteed after midnight / No refunds of any kind all sales are final.
URL:https://royaleboston.com/event/madeon/
LOCATION:Royale Nightclub Boston\, MA\, 279 Tremont Street\, Boston\, MA\, 02116\, United States
CATEGORIES:Nightclub
ATTACH;FMTTYPE=image/png:https://royaleboston.com/wp-content/uploads/2016/04/SOFA-KING-mad2.png
GEO:42.3499959;-71.0656288
X-APPLE-STRUCTURED-LOCATION;VALUE=URI;X-ADDRESS=Royale Nightclub Boston MA 279 Tremont Street Boston MA 02116 United States;X-APPLE-RADIUS=500;X-TITLE=279 Tremont Street:geo:-71.0656288,42.3499959
END:VEVENT
BEGIN:VEVENT
DTSTART;TZID=America/New_York:20160514T220000
DTEND;TZID=America/New_York:20160514T220000
DTSTAMP:20260422T154817
CREATED:20160428T184126Z
LAST-MODIFIED:20160428T184126Z
UID:10002338-1463263200-1463263200@royaleboston.com
SUMMARY:Chachi
DESCRIPTION:Special Guest DJ Chachi from NYC takes over Royale Saturday w/ opening set by DJ Bobak. \n21+ | Management reserves the right to refuse entry.
URL:https://royaleboston.com/event/chachi/
LOCATION:Royale Nightclub Boston\, MA\, 279 Tremont Street\, Boston\, MA\, 02116\, United States
CATEGORIES:Nightclub
ATTACH;FMTTYPE=image/jpeg:https://royaleboston.com/wp-content/uploads/2016/04/ROYALE_CHACHI_600X900.jpg
GEO:42.3499959;-71.0656288
X-APPLE-STRUCTURED-LOCATION;VALUE=URI;X-ADDRESS=Royale Nightclub Boston MA 279 Tremont Street Boston MA 02116 United States;X-APPLE-RADIUS=500;X-TITLE=279 Tremont Street:geo:-71.0656288,42.3499959
END:VEVENT
BEGIN:VEVENT
DTSTART;TZID=America/New_York:20160520T220000
DTEND;TZID=America/New_York:20160520T220000
DTSTAMP:20260422T154817
CREATED:20160421T225541Z
LAST-MODIFIED:20160421T225541Z
UID:10001655-1463781600-1463781600@royaleboston.com
SUMMARY:Fedde Le Grand
DESCRIPTION:21+ \n*Management reserves the right to refuse entry / Admission not guaranteed after midnight / No refunds of any kind all sales are final.
URL:https://royaleboston.com/event/fedde-le-grand/
LOCATION:Royale Nightclub Boston\, MA\, 279 Tremont Street\, Boston\, MA\, 02116\, United States
CATEGORIES:Nightclub
ATTACH;FMTTYPE=image/png:https://royaleboston.com/wp-content/uploads/2016/04/SOFA-KING_fed.png
GEO:42.3499959;-71.0656288
X-APPLE-STRUCTURED-LOCATION;VALUE=URI;X-ADDRESS=Royale Nightclub Boston MA 279 Tremont Street Boston MA 02116 United States;X-APPLE-RADIUS=500;X-TITLE=279 Tremont Street:geo:-71.0656288,42.3499959
END:VEVENT
BEGIN:VEVENT
DTSTART;TZID=America/New_York:20160521T220000
DTEND;TZID=America/New_York:20160521T220000
DTSTAMP:20260422T154817
CREATED:20160511T192558Z
LAST-MODIFIED:20160511T192558Z
UID:10002376-1463868000-1463868000@royaleboston.com
SUMMARY:HAPPY DAZE
DESCRIPTION:21+
URL:https://royaleboston.com/event/happy-daze/
LOCATION:Royale Nightclub Boston\, MA\, 279 Tremont Street\, Boston\, MA\, 02116\, United States
CATEGORIES:Nightclub
ATTACH;FMTTYPE=image/jpeg:https://royaleboston.com/wp-content/uploads/2016/05/ROYALE_HAPPY_DAZE_600X900.jpg
GEO:42.3499959;-71.0656288
X-APPLE-STRUCTURED-LOCATION;VALUE=URI;X-ADDRESS=Royale Nightclub Boston MA 279 Tremont Street Boston MA 02116 United States;X-APPLE-RADIUS=500;X-TITLE=279 Tremont Street:geo:-71.0656288,42.3499959
END:VEVENT
BEGIN:VEVENT
DTSTART;TZID=America/New_York:20160527T220000
DTEND;TZID=America/New_York:20160527T220000
DTSTAMP:20260422T154817
CREATED:20160404T152354Z
LAST-MODIFIED:20220523T120831Z
UID:10002291-1464386400-1464386400@royaleboston.com
SUMMARY:TOKiMONSTA
DESCRIPTION:Doors: 8:00 pm / Show: 9:00 pm \nThis event is 18 and over.\nTickets on sale Fri. 4/8 at noon! \n*** \n \n*** \nTOKiMONSTA \n \n[Website] [Facebook] [Twitter] \nLos Angeles native\, TOKiMONSTA (Jennifer Lee) is known for her unique take on electronic\,hip hop\, and dance music. Her classical upbringing and eclectic taste in music has allowed her to create vast textural soundscapes—a reverberation that fuses vintage sensibilities with progressive inclinations. Since 2010\, she has released 2 full albums\, 2 EPs\, 2 vinyl only singles through Ultra Records (US)\, Sony (Korea)\, Brainfeeder/Ninja Tune (US/UK)\, Art Union (Japan)\, Black Acre (UK)\, Ramp (UK)\, and All City (Ireland). \nHer music has been recognized by the very best in tastemaker and mainstream media. TOKiMONSTA has been featured on various worldwide radio programs such as: BBC Radio1 (UK)\, NPR (USA)\, BBC World Service (UK)\, J Wave (JP)\, Studio Brussels (BE)\, Radio Nova (FR)\, KCRW (LA) to name a few. Subsequently\, DJ Mag\, Pitchfork\, The Guardian\, XLR8R\, Paper\, LA Times\, Dazed and Confused\, SPIN\, Wax Poetics\, MTV\, VIBE\, Billboard\, Rolling Stone\, Sound and Recording and more have covered her. She has been ranked by LA weeklyas LA’s best female DJ (noting her versatility as a producer). Additionally\, Resident Adviser featured her for their “Breaking Through” series\, which focuses on the next break through artist. Not only has she caught ears of many as a different dimension of Los Angeles-based music\, TOKiMONSTA is notably the first female to join Flying Lotus’ crew/label BRAINFEEDER\, which is on the forefront of LA music scene. \nRecognition of her music has given her the opportunity to tour the world. In a never-ending effort to stay on top of technological and musical advances\, she uses cutting edge technology with pieces of musical and multimedia gear. She participated in the prestigious Red Bull Music Academy in London in 2010. In the summer of 2012\, she was apart of the Full Flex Express tour\, the first electronic music themed train tour that traveled across Canada with Skrillex\, Diplo\, Pretty Lights\, and Grimes. She performed on the very first SS Coachella–Golden Voices’ first ocean cruise festival. Some notable past performances were at Coachella\, Sonar Barcelona\, DEMF\, WMC\, Electric Zoo\, SXSW\, Camp Bisco\, Decibel Festival\, What The Festival\, and Burning Man.
URL:https://royaleboston.com/event/tokimonsta/
LOCATION:Royale Nightclub Boston\, MA\, 279 Tremont Street\, Boston\, MA\, 02116\, United States
CATEGORIES:Nightclub
ATTACH;FMTTYPE=image/jpeg:https://royaleboston.com/wp-content/uploads/2016/04/toki_fovere_ADMAT_EAST-localized2.jpg
ORGANIZER;CN="Bowery Boston":MAILTO:info@boweryboston.com
GEO:42.3499959;-71.0656288
X-APPLE-STRUCTURED-LOCATION;VALUE=URI;X-ADDRESS=Royale Nightclub Boston MA 279 Tremont Street Boston MA 02116 United States;X-APPLE-RADIUS=500;X-TITLE=279 Tremont Street:geo:-71.0656288,42.3499959
END:VEVENT
BEGIN:VEVENT
DTSTART;TZID=America/New_York:20160527T220000
DTEND;TZID=America/New_York:20160527T220000
DTSTAMP:20260422T154817
CREATED:20160421T230323Z
LAST-MODIFIED:20160421T230323Z
UID:10002334-1464386400-1464386400@royaleboston.com
SUMMARY:Wild On
DESCRIPTION:21+ \n*Management reserves the right to refuse entry / Admission not guaranteed after midnight / No refunds of any kind all sales are final.
URL:https://royaleboston.com/event/wild-on/
LOCATION:Royale Nightclub Boston\, MA\, 279 Tremont Street\, Boston\, MA\, 02116\, United States
CATEGORIES:Nightclub
ATTACH;FMTTYPE=image/jpeg:https://royaleboston.com/wp-content/uploads/2016/04/13227092_10206460234284729_6660205876124856077_n.jpg
GEO:42.3499959;-71.0656288
X-APPLE-STRUCTURED-LOCATION;VALUE=URI;X-ADDRESS=Royale Nightclub Boston MA 279 Tremont Street Boston MA 02116 United States;X-APPLE-RADIUS=500;X-TITLE=279 Tremont Street:geo:-71.0656288,42.3499959
END:VEVENT
END:VCALENDAR