BEGIN:VCALENDAR
VERSION:2.0
PRODID:-//Royale Boston - ECPv6.15.20//NONSGML v1.0//EN
CALSCALE:GREGORIAN
METHOD:PUBLISH
X-ORIGINAL-URL:https://royaleboston.com
X-WR-CALDESC:Events for Royale Boston
REFRESH-INTERVAL;VALUE=DURATION:PT1H
X-Robots-Tag:noindex
X-PUBLISHED-TTL:PT1H
BEGIN:VTIMEZONE
TZID:America/New_York
BEGIN:DAYLIGHT
TZOFFSETFROM:-0500
TZOFFSETTO:-0400
TZNAME:EDT
DTSTART:20150308T070000
END:DAYLIGHT
BEGIN:STANDARD
TZOFFSETFROM:-0400
TZOFFSETTO:-0500
TZNAME:EST
DTSTART:20151101T060000
END:STANDARD
BEGIN:DAYLIGHT
TZOFFSETFROM:-0500
TZOFFSETTO:-0400
TZNAME:EDT
DTSTART:20160313T070000
END:DAYLIGHT
BEGIN:STANDARD
TZOFFSETFROM:-0400
TZOFFSETTO:-0500
TZNAME:EST
DTSTART:20161106T060000
END:STANDARD
BEGIN:DAYLIGHT
TZOFFSETFROM:-0500
TZOFFSETTO:-0400
TZNAME:EDT
DTSTART:20170312T070000
END:DAYLIGHT
BEGIN:STANDARD
TZOFFSETFROM:-0400
TZOFFSETTO:-0500
TZNAME:EST
DTSTART:20171105T060000
END:STANDARD
END:VTIMEZONE
BEGIN:VEVENT
DTSTART;TZID=America/New_York:20160702T220000
DTEND;TZID=America/New_York:20160702T220000
DTSTAMP:20260424T074522
CREATED:20160616T192015Z
LAST-MODIFIED:20160616T192015Z
UID:10001683-1467496800-1467496800@royaleboston.com
SUMMARY:FREEDOM
DESCRIPTION:21+
URL:https://royaleboston.com/event/bermudez/
LOCATION:Royale Nightclub Boston\, MA\, 279 Tremont Street\, Boston\, MA\, 02116\, United States
CATEGORIES:Nightclub
ATTACH;FMTTYPE=image/jpeg:https://royaleboston.com/wp-content/uploads/2016/06/ROYALE_FREEDOM_1080_test.jpg
GEO:42.3499959;-71.0656288
X-APPLE-STRUCTURED-LOCATION;VALUE=URI;X-ADDRESS=Royale Nightclub Boston MA 279 Tremont Street Boston MA 02116 United States;X-APPLE-RADIUS=500;X-TITLE=279 Tremont Street:geo:-71.0656288,42.3499959
END:VEVENT
BEGIN:VEVENT
DTSTART;TZID=America/New_York:20160703T220000
DTEND;TZID=America/New_York:20160703T220000
DTSTAMP:20260424T074522
CREATED:20160627T194905Z
LAST-MODIFIED:20160627T194905Z
UID:10002400-1467583200-1467583200@royaleboston.com
SUMMARY:Hot Mess Sunday
DESCRIPTION:21+
URL:https://royaleboston.com/event/hot-mess-sunday/
LOCATION:Royale Nightclub Boston\, MA\, 279 Tremont Street\, Boston\, MA\, 02116\, United States
CATEGORIES:Nightclub
ATTACH;FMTTYPE=image/jpeg:https://royaleboston.com/wp-content/uploads/2016/06/HOTMESS_07032016-poster.jpg
GEO:42.3499959;-71.0656288
X-APPLE-STRUCTURED-LOCATION;VALUE=URI;X-ADDRESS=Royale Nightclub Boston MA 279 Tremont Street Boston MA 02116 United States;X-APPLE-RADIUS=500;X-TITLE=279 Tremont Street:geo:-71.0656288,42.3499959
END:VEVENT
BEGIN:VEVENT
DTSTART;TZID=America/New_York:20160708T220000
DTEND;TZID=America/New_York:20160708T220000
DTSTAMP:20260424T074522
CREATED:20160608T001925Z
LAST-MODIFIED:20160608T001925Z
UID:10002384-1468015200-1468015200@royaleboston.com
SUMMARY:Boston DJ Showcase
DESCRIPTION:21+ \n*Management reserves the right to refuse entry / Admission not guaranteed after 12AM / No refunds of any kind all sales are final.
URL:https://royaleboston.com/event/boston-dj-showcase/
LOCATION:Royale Nightclub Boston\, MA\, 279 Tremont Street\, Boston\, MA\, 02116\, United States
CATEGORIES:Nightclub
ATTACH;FMTTYPE=image/jpeg:https://royaleboston.com/wp-content/uploads/2016/06/13627249_2773684701415_7243889372541797959_n.jpg
GEO:42.3499959;-71.0656288
X-APPLE-STRUCTURED-LOCATION;VALUE=URI;X-ADDRESS=Royale Nightclub Boston MA 279 Tremont Street Boston MA 02116 United States;X-APPLE-RADIUS=500;X-TITLE=279 Tremont Street:geo:-71.0656288,42.3499959
END:VEVENT
BEGIN:VEVENT
DTSTART;TZID=America/New_York:20160709T220000
DTEND;TZID=America/New_York:20160709T220000
DTSTAMP:20260424T074522
CREATED:20160628T194532Z
LAST-MODIFIED:20160628T194532Z
UID:10002401-1468101600-1468101600@royaleboston.com
SUMMARY:Tone Terra
DESCRIPTION:21+
URL:https://royaleboston.com/event/tone-terra/
LOCATION:Royale Nightclub Boston\, MA\, 279 Tremont Street\, Boston\, MA\, 02116\, United States
CATEGORIES:Nightclub
ATTACH;FMTTYPE=image/jpeg:https://royaleboston.com/wp-content/uploads/2016/06/ROYALE_TONE_TERRA_1080.jpg
GEO:42.3499959;-71.0656288
X-APPLE-STRUCTURED-LOCATION;VALUE=URI;X-ADDRESS=Royale Nightclub Boston MA 279 Tremont Street Boston MA 02116 United States;X-APPLE-RADIUS=500;X-TITLE=279 Tremont Street:geo:-71.0656288,42.3499959
END:VEVENT
BEGIN:VEVENT
DTSTART;TZID=America/New_York:20160715T220000
DTEND;TZID=America/New_York:20160715T220000
DTSTAMP:20260424T074522
CREATED:20160608T003526Z
LAST-MODIFIED:20160608T003526Z
UID:10002385-1468620000-1468620000@royaleboston.com
SUMMARY:4B
DESCRIPTION:21+ \n*Management reserves the right to refuse entry / Admission not guaranteed after 12AM / No Refunds of any kind all sales are final
URL:https://royaleboston.com/event/4b/
LOCATION:Royale Nightclub Boston\, MA\, 279 Tremont Street\, Boston\, MA\, 02116\, United States
CATEGORIES:Nightclub
ATTACH;FMTTYPE=image/jpeg:https://royaleboston.com/wp-content/uploads/2016/06/7.15.jpg
GEO:42.3499959;-71.0656288
X-APPLE-STRUCTURED-LOCATION;VALUE=URI;X-ADDRESS=Royale Nightclub Boston MA 279 Tremont Street Boston MA 02116 United States;X-APPLE-RADIUS=500;X-TITLE=279 Tremont Street:geo:-71.0656288,42.3499959
END:VEVENT
BEGIN:VEVENT
DTSTART;TZID=America/New_York:20160716T220000
DTEND;TZID=America/New_York:20160716T220000
DTSTAMP:20260424T074522
CREATED:20160713T104621Z
LAST-MODIFIED:20160713T104621Z
UID:10001691-1468706400-1468706400@royaleboston.com
SUMMARY:Winter In July
DESCRIPTION:21+
URL:https://royaleboston.com/event/winter-in-july/
LOCATION:Royale Nightclub Boston\, MA\, 279 Tremont Street\, Boston\, MA\, 02116\, United States
CATEGORIES:Nightclub
ATTACH;FMTTYPE=image/jpeg:https://royaleboston.com/wp-content/uploads/2016/07/ROYALE_WINTER_IN_JULY_2.jpg
GEO:42.3499959;-71.0656288
X-APPLE-STRUCTURED-LOCATION;VALUE=URI;X-ADDRESS=Royale Nightclub Boston MA 279 Tremont Street Boston MA 02116 United States;X-APPLE-RADIUS=500;X-TITLE=279 Tremont Street:geo:-71.0656288,42.3499959
END:VEVENT
BEGIN:VEVENT
DTSTART;TZID=America/New_York:20160722T220000
DTEND;TZID=America/New_York:20160722T220000
DTSTAMP:20260424T074522
CREATED:20160608T005326Z
LAST-MODIFIED:20160608T005326Z
UID:10002386-1469224800-1469224800@royaleboston.com
SUMMARY:Prince Fox
DESCRIPTION:21+ \n*Management reserves the right to refuse entry / Admission not guaranteed after midnight / No refunds of any kind all sales are final.
URL:https://royaleboston.com/event/prince-fox/
LOCATION:Royale Nightclub Boston\, MA\, 279 Tremont Street\, Boston\, MA\, 02116\, United States
CATEGORIES:Nightclub
ATTACH;FMTTYPE=image/jpeg:https://royaleboston.com/wp-content/uploads/2016/06/7.22.jpg
GEO:42.3499959;-71.0656288
X-APPLE-STRUCTURED-LOCATION;VALUE=URI;X-ADDRESS=Royale Nightclub Boston MA 279 Tremont Street Boston MA 02116 United States;X-APPLE-RADIUS=500;X-TITLE=279 Tremont Street:geo:-71.0656288,42.3499959
END:VEVENT
BEGIN:VEVENT
DTSTART;TZID=America/New_York:20160723T220000
DTEND;TZID=America/New_York:20160723T220000
DTSTAMP:20260424T074522
CREATED:20160721T152142Z
LAST-MODIFIED:20160721T152142Z
UID:10002407-1469311200-1469311200@royaleboston.com
SUMMARY:Royale GO
DESCRIPTION:21+
URL:https://royaleboston.com/event/royale-go/
LOCATION:Royale Nightclub Boston\, MA\, 279 Tremont Street\, Boston\, MA\, 02116\, United States
CATEGORIES:Nightclub
ATTACH;FMTTYPE=image/jpeg:https://royaleboston.com/wp-content/uploads/2016/07/ROYALE_POKEMON_GO_1.jpg
GEO:42.3499959;-71.0656288
X-APPLE-STRUCTURED-LOCATION;VALUE=URI;X-ADDRESS=Royale Nightclub Boston MA 279 Tremont Street Boston MA 02116 United States;X-APPLE-RADIUS=500;X-TITLE=279 Tremont Street:geo:-71.0656288,42.3499959
END:VEVENT
BEGIN:VEVENT
DTSTART;TZID=America/New_York:20160729T220000
DTEND;TZID=America/New_York:20160729T220000
DTSTAMP:20260424T074522
CREATED:20160608T013432Z
LAST-MODIFIED:20160608T013432Z
UID:10002387-1469829600-1469829600@royaleboston.com
SUMMARY:Matoma
DESCRIPTION:21+ \n*Management reserves the right to refuse entry / Admission not guaranteed after 12AM / No refunds of any kind all sales are final.
URL:https://royaleboston.com/event/matoma-2/
LOCATION:Royale Nightclub Boston\, MA\, 279 Tremont Street\, Boston\, MA\, 02116\, United States
CATEGORIES:Nightclub
ATTACH;FMTTYPE=image/jpeg:https://royaleboston.com/wp-content/uploads/2016/06/7.29.jpg
GEO:42.3499959;-71.0656288
X-APPLE-STRUCTURED-LOCATION;VALUE=URI;X-ADDRESS=Royale Nightclub Boston MA 279 Tremont Street Boston MA 02116 United States;X-APPLE-RADIUS=500;X-TITLE=279 Tremont Street:geo:-71.0656288,42.3499959
END:VEVENT
BEGIN:VEVENT
DTSTART;TZID=America/New_York:20160730T220000
DTEND;TZID=America/New_York:20160730T220000
DTSTAMP:20260424T074522
CREATED:20160722T153617Z
LAST-MODIFIED:20160722T153617Z
UID:10002409-1469916000-1469916000@royaleboston.com
SUMMARY:Sam Pace
DESCRIPTION:21+
URL:https://royaleboston.com/event/sam-pace-2/
LOCATION:Royale Nightclub Boston\, MA\, 279 Tremont Street\, Boston\, MA\, 02116\, United States
CATEGORIES:Nightclub
ATTACH;FMTTYPE=image/jpeg:https://royaleboston.com/wp-content/uploads/2016/07/ROYALE_SAM_PACE.jpg
GEO:42.3499959;-71.0656288
X-APPLE-STRUCTURED-LOCATION;VALUE=URI;X-ADDRESS=Royale Nightclub Boston MA 279 Tremont Street Boston MA 02116 United States;X-APPLE-RADIUS=500;X-TITLE=279 Tremont Street:geo:-71.0656288,42.3499959
END:VEVENT
BEGIN:VEVENT
DTSTART;TZID=America/New_York:20160805T220000
DTEND;TZID=America/New_York:20160805T220000
DTSTAMP:20260424T074522
CREATED:20160609T043826Z
LAST-MODIFIED:20160609T043826Z
UID:10002390-1470434400-1470434400@royaleboston.com
SUMMARY:Morgan Page
DESCRIPTION:21+ \n*Management reserves the right to refuse entry / Admission not guaranteed after 12AM / No refunds of any kind all sales are final.
URL:https://royaleboston.com/event/morgan-page/
LOCATION:Royale Nightclub Boston\, MA\, 279 Tremont Street\, Boston\, MA\, 02116\, United States
CATEGORIES:Nightclub
ATTACH;FMTTYPE=image/jpeg:https://royaleboston.com/wp-content/uploads/2016/06/8.5.jpg
GEO:42.3499959;-71.0656288
X-APPLE-STRUCTURED-LOCATION;VALUE=URI;X-ADDRESS=Royale Nightclub Boston MA 279 Tremont Street Boston MA 02116 United States;X-APPLE-RADIUS=500;X-TITLE=279 Tremont Street:geo:-71.0656288,42.3499959
END:VEVENT
BEGIN:VEVENT
DTSTART;TZID=America/New_York:20160806T220000
DTEND;TZID=America/New_York:20160806T220000
DTSTAMP:20260424T074522
CREATED:20160804T003006Z
LAST-MODIFIED:20160804T003006Z
UID:10001700-1470520800-1470520800@royaleboston.com
SUMMARY:NRG
DESCRIPTION:21+ \nTop 40 dance music
URL:https://royaleboston.com/event/saturday-line-jumpers/
LOCATION:Royale Nightclub Boston\, MA\, 279 Tremont Street\, Boston\, MA\, 02116\, United States
CATEGORIES:Nightclub
ATTACH;FMTTYPE=image/jpeg:https://royaleboston.com/wp-content/uploads/2016/08/ROYALE_SLAY_1080.jpg
GEO:42.3499959;-71.0656288
X-APPLE-STRUCTURED-LOCATION;VALUE=URI;X-ADDRESS=Royale Nightclub Boston MA 279 Tremont Street Boston MA 02116 United States;X-APPLE-RADIUS=500;X-TITLE=279 Tremont Street:geo:-71.0656288,42.3499959
END:VEVENT
BEGIN:VEVENT
DTSTART;TZID=America/New_York:20160812T220000
DTEND;TZID=America/New_York:20160812T220000
DTSTAMP:20260424T074522
CREATED:20160609T044645Z
LAST-MODIFIED:20160609T044645Z
UID:10002391-1471039200-1471039200@royaleboston.com
SUMMARY:SuperFresh
DESCRIPTION:21+ \n*Management reserves the right to refuse entry / Admission not guaranteed after 12AM / No refunds of any kind all sales are final.
URL:https://royaleboston.com/event/superfresh/
LOCATION:Royale Nightclub Boston\, MA\, 279 Tremont Street\, Boston\, MA\, 02116\, United States
CATEGORIES:Nightclub
ATTACH;FMTTYPE=image/jpeg:https://royaleboston.com/wp-content/uploads/2016/06/8.12.jpg
GEO:42.3499959;-71.0656288
X-APPLE-STRUCTURED-LOCATION;VALUE=URI;X-ADDRESS=Royale Nightclub Boston MA 279 Tremont Street Boston MA 02116 United States;X-APPLE-RADIUS=500;X-TITLE=279 Tremont Street:geo:-71.0656288,42.3499959
END:VEVENT
BEGIN:VEVENT
DTSTART;TZID=America/New_York:20160813T220000
DTEND;TZID=America/New_York:20160813T220000
DTSTAMP:20260424T074522
CREATED:20160804T013823Z
LAST-MODIFIED:20160804T013823Z
UID:10001701-1471125600-1471125600@royaleboston.com
SUMMARY:Liz Ladoux
DESCRIPTION:21+ \nTop 40 dance music
URL:https://royaleboston.com/event/liz-ladoux-3/
LOCATION:Royale Nightclub Boston\, MA\, 279 Tremont Street\, Boston\, MA\, 02116\, United States
CATEGORIES:Nightclub
ATTACH;FMTTYPE=image/jpeg:https://royaleboston.com/wp-content/uploads/2016/08/ROYALE_LL_1080.jpg
GEO:42.3499959;-71.0656288
X-APPLE-STRUCTURED-LOCATION;VALUE=URI;X-ADDRESS=Royale Nightclub Boston MA 279 Tremont Street Boston MA 02116 United States;X-APPLE-RADIUS=500;X-TITLE=279 Tremont Street:geo:-71.0656288,42.3499959
END:VEVENT
BEGIN:VEVENT
DTSTART;TZID=America/New_York:20160819T220000
DTEND;TZID=America/New_York:20160819T220000
DTSTAMP:20260424T074522
CREATED:20160609T045141Z
LAST-MODIFIED:20160609T045141Z
UID:10002392-1471644000-1471644000@royaleboston.com
SUMMARY:Thomas Jack
DESCRIPTION:21+ \n*Management reserves the right to refuse entry / Admission not guaranteed after 12AM / No refunds of any kind all sales are final.
URL:https://royaleboston.com/event/thomas-jack/
LOCATION:Royale Nightclub Boston\, MA\, 279 Tremont Street\, Boston\, MA\, 02116\, United States
CATEGORIES:Nightclub
ATTACH;FMTTYPE=image/jpeg:https://royaleboston.com/wp-content/uploads/2016/06/8.19.jpg
GEO:42.3499959;-71.0656288
X-APPLE-STRUCTURED-LOCATION;VALUE=URI;X-ADDRESS=Royale Nightclub Boston MA 279 Tremont Street Boston MA 02116 United States;X-APPLE-RADIUS=500;X-TITLE=279 Tremont Street:geo:-71.0656288,42.3499959
END:VEVENT
BEGIN:VEVENT
DTSTART;TZID=America/New_York:20160820T220000
DTEND;TZID=America/New_York:20160820T220000
DTSTAMP:20260424T074522
CREATED:20160817T004734Z
LAST-MODIFIED:20160817T004734Z
UID:10002414-1471730400-1471730400@royaleboston.com
SUMMARY:Chill
DESCRIPTION:21+
URL:https://royaleboston.com/event/chill/
LOCATION:Royale Nightclub Boston\, MA\, 279 Tremont Street\, Boston\, MA\, 02116\, United States
CATEGORIES:Nightclub
ATTACH;FMTTYPE=image/jpeg:https://royaleboston.com/wp-content/uploads/2016/08/8.20-Chill.jpg
GEO:42.3499959;-71.0656288
X-APPLE-STRUCTURED-LOCATION;VALUE=URI;X-ADDRESS=Royale Nightclub Boston MA 279 Tremont Street Boston MA 02116 United States;X-APPLE-RADIUS=500;X-TITLE=279 Tremont Street:geo:-71.0656288,42.3499959
END:VEVENT
BEGIN:VEVENT
DTSTART;TZID=America/New_York:20160826T220000
DTEND;TZID=America/New_York:20160826T220000
DTSTAMP:20260424T074522
CREATED:20160609T045536Z
LAST-MODIFIED:20160609T045536Z
UID:10002393-1472248800-1472248800@royaleboston.com
SUMMARY:Brillz
DESCRIPTION:21+ \n*Management reserves the right to refuse entry / Admission not guaranteed after 12AM / No refunds of any kind all sales are final.
URL:https://royaleboston.com/event/brillz/
LOCATION:Royale Nightclub Boston\, MA\, 279 Tremont Street\, Boston\, MA\, 02116\, United States
CATEGORIES:Nightclub
ATTACH;FMTTYPE=image/jpeg:https://royaleboston.com/wp-content/uploads/2016/06/8.26a.jpg
GEO:42.3499959;-71.0656288
X-APPLE-STRUCTURED-LOCATION;VALUE=URI;X-ADDRESS=Royale Nightclub Boston MA 279 Tremont Street Boston MA 02116 United States;X-APPLE-RADIUS=500;X-TITLE=279 Tremont Street:geo:-71.0656288,42.3499959
END:VEVENT
BEGIN:VEVENT
DTSTART;TZID=America/New_York:20160827T220000
DTEND;TZID=America/New_York:20160827T220000
DTSTAMP:20260424T074522
CREATED:20160817T005450Z
LAST-MODIFIED:20160817T005450Z
UID:10002415-1472335200-1472335200@royaleboston.com
SUMMARY:White Party
DESCRIPTION:21+
URL:https://royaleboston.com/event/white-party-4/
LOCATION:Royale Nightclub Boston\, MA\, 279 Tremont Street\, Boston\, MA\, 02116\, United States
CATEGORIES:Nightclub
ATTACH;FMTTYPE=image/jpeg:https://royaleboston.com/wp-content/uploads/2016/08/ROYALE_WHITE_PARTY_1080.jpg
GEO:42.3499959;-71.0656288
X-APPLE-STRUCTURED-LOCATION;VALUE=URI;X-ADDRESS=Royale Nightclub Boston MA 279 Tremont Street Boston MA 02116 United States;X-APPLE-RADIUS=500;X-TITLE=279 Tremont Street:geo:-71.0656288,42.3499959
END:VEVENT
BEGIN:VEVENT
DTSTART;TZID=America/New_York:20160903T220000
DTEND;TZID=America/New_York:20160903T220000
DTSTAMP:20260424T074522
CREATED:20160726T220041Z
LAST-MODIFIED:20160726T220041Z
UID:10002412-1472940000-1472940000@royaleboston.com
SUMMARY:Dada Life
DESCRIPTION:21+
URL:https://royaleboston.com/event/dada-life/
LOCATION:Royale Nightclub Boston\, MA\, 279 Tremont Street\, Boston\, MA\, 02116\, United States
CATEGORIES:Nightclub
ATTACH;FMTTYPE=image/jpeg:https://royaleboston.com/wp-content/uploads/2016/07/DadaClubAdMatte_boston_WEB-copy.jpg
GEO:42.3499959;-71.0656288
X-APPLE-STRUCTURED-LOCATION;VALUE=URI;X-ADDRESS=Royale Nightclub Boston MA 279 Tremont Street Boston MA 02116 United States;X-APPLE-RADIUS=500;X-TITLE=279 Tremont Street:geo:-71.0656288,42.3499959
END:VEVENT
BEGIN:VEVENT
DTSTART;TZID=America/New_York:20160904T220000
DTEND;TZID=America/New_York:20160904T220000
DTSTAMP:20260424T074522
CREATED:20160726T025428Z
LAST-MODIFIED:20160726T025428Z
UID:10002411-1473026400-1473026400@royaleboston.com
SUMMARY:White Party
DESCRIPTION:21+
URL:https://royaleboston.com/event/white-party-3/
LOCATION:Royale Nightclub Boston\, MA\, 279 Tremont Street\, Boston\, MA\, 02116\, United States
CATEGORIES:Nightclub
ATTACH;FMTTYPE=image/jpeg:https://royaleboston.com/wp-content/uploads/2016/07/ROYALE_09042016-poster.jpg
GEO:42.3499959;-71.0656288
X-APPLE-STRUCTURED-LOCATION;VALUE=URI;X-ADDRESS=Royale Nightclub Boston MA 279 Tremont Street Boston MA 02116 United States;X-APPLE-RADIUS=500;X-TITLE=279 Tremont Street:geo:-71.0656288,42.3499959
END:VEVENT
BEGIN:VEVENT
DTSTART;TZID=America/New_York:20160909T220000
DTEND;TZID=America/New_York:20160909T220000
DTSTAMP:20260424T074522
CREATED:20160707T181640Z
LAST-MODIFIED:20160707T181640Z
UID:10001684-1473458400-1473458400@royaleboston.com
SUMMARY:Markus Schulz
DESCRIPTION:21+ \n*Management reserves the right to refuse entry / Admission not guaranteed after midnight / No refunds of any kind all sales are final.
URL:https://royaleboston.com/event/markus-schulz/
LOCATION:Royale Nightclub Boston\, MA\, 279 Tremont Street\, Boston\, MA\, 02116\, United States
CATEGORIES:Nightclub
ATTACH;FMTTYPE=image/jpeg:https://royaleboston.com/wp-content/uploads/2016/07/markus_schulz_poster.jpg
GEO:42.3499959;-71.0656288
X-APPLE-STRUCTURED-LOCATION;VALUE=URI;X-ADDRESS=Royale Nightclub Boston MA 279 Tremont Street Boston MA 02116 United States;X-APPLE-RADIUS=500;X-TITLE=279 Tremont Street:geo:-71.0656288,42.3499959
END:VEVENT
BEGIN:VEVENT
DTSTART;TZID=America/New_York:20160910T220000
DTEND;TZID=America/New_York:20160910T220000
DTSTAMP:20260424T074522
CREATED:20160817T005829Z
LAST-MODIFIED:20160817T005829Z
UID:10002416-1473544800-1473544800@royaleboston.com
SUMMARY:Hot For Teacher
DESCRIPTION:21+ \nManagement reserves the right to refuse entry
URL:https://royaleboston.com/event/hot-for-teacher/
LOCATION:Royale Nightclub Boston\, MA\, 279 Tremont Street\, Boston\, MA\, 02116\, United States
CATEGORIES:Nightclub
ATTACH;FMTTYPE=image/jpeg:https://royaleboston.com/wp-content/uploads/2016/09/14102982_1208262235903396_981729393466203747_o.jpg
GEO:42.3499959;-71.0656288
X-APPLE-STRUCTURED-LOCATION;VALUE=URI;X-ADDRESS=Royale Nightclub Boston MA 279 Tremont Street Boston MA 02116 United States;X-APPLE-RADIUS=500;X-TITLE=279 Tremont Street:geo:-71.0656288,42.3499959
END:VEVENT
BEGIN:VEVENT
DTSTART;TZID=America/New_York:20160916T220000
DTEND;TZID=America/New_York:20160916T220000
DTSTAMP:20260424T074522
CREATED:20160720T160649Z
LAST-MODIFIED:20160720T160649Z
UID:10002406-1474063200-1474063200@royaleboston.com
SUMMARY:Krewella
DESCRIPTION:21+ \nManagement reserves the right to refuse entry/ Admission not guaranteed after 12AM
URL:https://royaleboston.com/event/krewella/
LOCATION:Royale Nightclub Boston\, MA\, 279 Tremont Street\, Boston\, MA\, 02116\, United States
CATEGORIES:Nightclub
ATTACH;FMTTYPE=image/jpeg:https://royaleboston.com/wp-content/uploads/2016/07/9.16.jpg
GEO:42.3499959;-71.0656288
X-APPLE-STRUCTURED-LOCATION;VALUE=URI;X-ADDRESS=Royale Nightclub Boston MA 279 Tremont Street Boston MA 02116 United States;X-APPLE-RADIUS=500;X-TITLE=279 Tremont Street:geo:-71.0656288,42.3499959
END:VEVENT
BEGIN:VEVENT
DTSTART;TZID=America/New_York:20160917T220000
DTEND;TZID=America/New_York:20160917T220000
DTSTAMP:20260424T074522
CREATED:20160906T031407Z
LAST-MODIFIED:20160906T031407Z
UID:10001706-1474149600-1474149600@royaleboston.com
SUMMARY:Breeazy
DESCRIPTION:21+
URL:https://royaleboston.com/event/breeazy-3/
LOCATION:Royale Nightclub Boston\, MA\, 279 Tremont Street\, Boston\, MA\, 02116\, United States
CATEGORIES:Nightclub
ATTACH;FMTTYPE=image/jpeg:https://royaleboston.com/wp-content/uploads/2016/09/Breeazy-917.jpg
GEO:42.3499959;-71.0656288
X-APPLE-STRUCTURED-LOCATION;VALUE=URI;X-ADDRESS=Royale Nightclub Boston MA 279 Tremont Street Boston MA 02116 United States;X-APPLE-RADIUS=500;X-TITLE=279 Tremont Street:geo:-71.0656288,42.3499959
END:VEVENT
BEGIN:VEVENT
DTSTART;TZID=America/New_York:20160923T220000
DTEND;TZID=America/New_York:20160923T220000
DTSTAMP:20260424T074522
CREATED:20160707T211755Z
LAST-MODIFIED:20160707T211755Z
UID:10001685-1474668000-1474668000@royaleboston.com
SUMMARY:Bakermat
DESCRIPTION:21+ \n*Management reserves the right to refuse entry / Admission not guaranteed after midnight / No refunds of any kind all sales are final.
URL:https://royaleboston.com/event/bakermat/
LOCATION:Royale Nightclub Boston\, MA\, 279 Tremont Street\, Boston\, MA\, 02116\, United States
CATEGORIES:Nightclub
ATTACH;FMTTYPE=image/jpeg:https://royaleboston.com/wp-content/uploads/2016/07/bakermat.jpg
GEO:42.3499959;-71.0656288
X-APPLE-STRUCTURED-LOCATION;VALUE=URI;X-ADDRESS=Royale Nightclub Boston MA 279 Tremont Street Boston MA 02116 United States;X-APPLE-RADIUS=500;X-TITLE=279 Tremont Street:geo:-71.0656288,42.3499959
END:VEVENT
BEGIN:VEVENT
DTSTART;TZID=America/New_York:20160924T220000
DTEND;TZID=America/New_York:20160924T220000
DTSTAMP:20260424T074522
CREATED:20160906T030741Z
LAST-MODIFIED:20160906T030741Z
UID:10001705-1474754400-1474754400@royaleboston.com
SUMMARY:Chachi
DESCRIPTION:21+
URL:https://royaleboston.com/event/chachi-2/
LOCATION:Royale Nightclub Boston\, MA\, 279 Tremont Street\, Boston\, MA\, 02116\, United States
CATEGORIES:Nightclub
ATTACH;FMTTYPE=image/jpeg:https://royaleboston.com/wp-content/uploads/2016/09/ROYALE_CHACHI_1024.jpg
GEO:42.3499959;-71.0656288
X-APPLE-STRUCTURED-LOCATION;VALUE=URI;X-ADDRESS=Royale Nightclub Boston MA 279 Tremont Street Boston MA 02116 United States;X-APPLE-RADIUS=500;X-TITLE=279 Tremont Street:geo:-71.0656288,42.3499959
END:VEVENT
BEGIN:VEVENT
DTSTART;TZID=America/New_York:20160930T220000
DTEND;TZID=America/New_York:20160930T220000
DTSTAMP:20260424T074522
CREATED:20160810T151134Z
LAST-MODIFIED:20160810T151134Z
UID:10001703-1475272800-1475272800@royaleboston.com
SUMMARY:Gareth Emery
DESCRIPTION:21+ \nManagement reserves the right to refuse entry/ Admission not guaranteed after 12AM
URL:https://royaleboston.com/event/gareth-emery/
LOCATION:Royale Nightclub Boston\, MA\, 279 Tremont Street\, Boston\, MA\, 02116\, United States
CATEGORIES:Nightclub
ATTACH;FMTTYPE=image/jpeg:https://royaleboston.com/wp-content/uploads/2016/08/9.30.jpg
GEO:42.3499959;-71.0656288
X-APPLE-STRUCTURED-LOCATION;VALUE=URI;X-ADDRESS=Royale Nightclub Boston MA 279 Tremont Street Boston MA 02116 United States;X-APPLE-RADIUS=500;X-TITLE=279 Tremont Street:geo:-71.0656288,42.3499959
END:VEVENT
BEGIN:VEVENT
DTSTART;TZID=America/New_York:20161001T220000
DTEND;TZID=America/New_York:20161001T220000
DTSTAMP:20260424T074522
CREATED:20160927T163841Z
LAST-MODIFIED:20160927T163841Z
UID:10002425-1475359200-1475359200@royaleboston.com
SUMMARY:Little Black Dress Party w/ Liz Ladoux
DESCRIPTION:21+ \nVIP: 617-733-0505
URL:https://royaleboston.com/event/little-black-dress-party-w-liz-ladoux/
LOCATION:Royale Nightclub Boston\, MA\, 279 Tremont Street\, Boston\, MA\, 02116\, United States
CATEGORIES:Nightclub
ATTACH;FMTTYPE=image/jpeg:https://royaleboston.com/wp-content/uploads/2016/09/101-Liz-Ladoux.jpg
GEO:42.3499959;-71.0656288
X-APPLE-STRUCTURED-LOCATION;VALUE=URI;X-ADDRESS=Royale Nightclub Boston MA 279 Tremont Street Boston MA 02116 United States;X-APPLE-RADIUS=500;X-TITLE=279 Tremont Street:geo:-71.0656288,42.3499959
END:VEVENT
BEGIN:VEVENT
DTSTART;TZID=America/New_York:20161005T193000
DTEND;TZID=America/New_York:20161005T193000
DTSTAMP:20260424T074522
CREATED:20160711T143125Z
LAST-MODIFIED:20160711T143125Z
UID:10001688-1475695800-1475695800@royaleboston.com
SUMMARY:Goldroom + Autograf
DESCRIPTION:Bowery Boston presents \nDoors: 7:30 pm / Show: 8:30 pm \nThis event is 18 and over. Patrons under 18 admitted if accompanied by a parent or legal guardian.\nTickets on sale Fri. 7/15 at 1PM! \nTickets available at TICKETMASTER.COM\, or by phone at 800-745-3000. No service charge on tickets purchased in person at The Sinclair Box Office Wednesdays-Saturdays 12-7PM. Please note: box office is cash only. \n*** \n \n*** \nGoldroom \n \n[Website] [Facebook] [Twitter] \nUnder his professional nom de plum Goldroom\, Legg’s found considerable success as a producer. But at heart\, he’s a songwriter. His influences (the non-electronic ones) veer toward the likes of Tom Petty\, Al Green and Ryan Adams. In his own music you can hear hints of French disco\, bass lines inspired by New Order and angelic vocals layered over (as Legg describes) his “nostalgic production tones.” It’s sonically grand\, sure. But at heart: real songs\, with real emotions\, evoking loneliness\, the ocean\, the West Coast. \nLive\, Goldroom has brought his music to life both in live form\, with full live band\, and in the more traditional form of DJ appearance. 2015 was a landmark year for Josh\, with the first year of his High Seas tour\, festival performances around North America through the summer (including LA’s FYF at sunset) and his Waiting To Ignite Tour of North America. \nHaving signed to Downtown Records in 2015\, Goldroom is currently working on his debut album which he intends to release in the second half of 2016. \n*** \nAutograf \n \n[Website] [Facebook] [Twitter] \nIt’s about leaving your mark on the world. It’s about leaving your Autograf. \n*** \nEau Claire \n \n[Website] [Facebook] [Twitter] \nEau Claire’s journey has been nothing short of exciting in the past year between chart topping releases and performances at clubs and music festivals throughout the US and Mexico. She stands out with her captivating stage presence and unique musical style combining her own blend of house\, nu-disco\, and indie dance.  \nWith several major label remixes to her name including releases on Warner Brothers Records and Elektra/Atlantic\, Eau Claire has established herself as a standout producer and DJ\, creating a special niche with her unique blend of indie-dance\, house\, and nu-disco.\nShe’s received support from major music outlets including DJ Mag\, Idolator/SPIN\, Indie Shuffle\, and LessThan3 and has been quoted by MOARRR magazine as “one of the most talented US newcomers this year”.
URL:https://royaleboston.com/event/goldroom-autograf/
LOCATION:Royale Nightclub Boston\, MA\, 279 Tremont Street\, Boston\, MA\, 02116\, United States
CATEGORIES:Concerts,Nightclub
ATTACH;FMTTYPE=image/jpeg:https://royaleboston.com/wp-content/uploads/2016/07/goldroom-autograf-admat2.jpg
ORGANIZER;CN="Bowery Boston":MAILTO:info@boweryboston.com
GEO:42.3499959;-71.0656288
X-APPLE-STRUCTURED-LOCATION;VALUE=URI;X-ADDRESS=Royale Nightclub Boston MA 279 Tremont Street Boston MA 02116 United States;X-APPLE-RADIUS=500;X-TITLE=279 Tremont Street:geo:-71.0656288,42.3499959
END:VEVENT
BEGIN:VEVENT
DTSTART;TZID=America/New_York:20161007T223000
DTEND;TZID=America/New_York:20161007T223000
DTSTAMP:20260424T074522
CREATED:20160609T143254Z
LAST-MODIFIED:20160609T143254Z
UID:10001674-1475879400-1475879400@royaleboston.com
SUMMARY:Tritonal
DESCRIPTION:21+ \n*Management reserves the right to refuse entry / Admission not guaranteed after midnight / No refunds of any kind all sales are final.
URL:https://royaleboston.com/event/tritonal-2/
LOCATION:Royale Nightclub Boston\, MA\, 279 Tremont Street\, Boston\, MA\, 02116\, United States
CATEGORIES:Nightclub
ATTACH;FMTTYPE=image/jpeg:https://royaleboston.com/wp-content/uploads/2016/06/10.7.jpg
GEO:42.3499959;-71.0656288
X-APPLE-STRUCTURED-LOCATION;VALUE=URI;X-ADDRESS=Royale Nightclub Boston MA 279 Tremont Street Boston MA 02116 United States;X-APPLE-RADIUS=500;X-TITLE=279 Tremont Street:geo:-71.0656288,42.3499959
END:VEVENT
END:VCALENDAR